BEGIN:VCALENDAR
VERSION:2.0
PRODID:-//wp-events-plugin.com//7.2.3.1//EN
TZID:Europe/Amsterdam
X-WR-TIMEZONE:Europe/Amsterdam
BEGIN:VEVENT
UID:37438@agenda-zaanstreek.nl
DTSTART;TZID=Europe/Amsterdam:20250319T143000
DTEND;TZID=Europe/Amsterdam:20250319T153000
DTSTAMP:20250220T104413Z
URL:https://agenda-zaanstreek.nl/events/voorleesochtend-in-het-zaans-museu
 m/
SUMMARY:Voorleesochtend in het Zaans Museum
DESCRIPTION:19 Maart van 14:30 tot 15:30&nbsp\;\nVoor kinderen van 6 tot 9 
 jaar\n\nPrijs:&nbsp\;€3\,75&nbsp\;per persoon\, kinderen tot 4 jaar zijn
  gratis\, dit is exclusief museumbezoek.\n\nKom op woensdag 19 maart naar 
 het Zaans Museum voor een gezellige voorleesochtend. We lezen voor uit&nbs
 p\;Noodoproep uit de molen van schrijver Marieke Lootsma\n\nDit avontuur s
 peelt zich af in de schilderachtige omgeving van de Zaanse Schans en de oe
 vers van de Zaan. Tijdens een storm schuilen de cavia's&nbsp\;Pieper en Bl
 iksem&nbsp\;in een molen. De uitgang raakt geblokkeerd en ze zitten opgesl
 oten.\nNiet ver van de molen woont muis Emma. Na de storm vindt zij iets b
 ijzonders\, waardoor ze samen met hond Waffie op avontuur gaat. Wat heeft 
 Emma gevonden\, en hoe zullen Pieper en Bliksem vrijkomen?\n\n&nbsp\;\n\nh
 ttps://zaansmuseum.nl/zien-doen/voorleesochtend-noodoproep-uit-de-molen
CATEGORIES:Jeugd
LOCATION:Zaans Museum\, Schansend 7\, Zaandam\, 1509 AW\, Nederland
X-APPLE-STRUCTURED-LOCATION;VALUE=URI;X-ADDRESS=Schansend 7\, Zaandam\, 150
 9 AW\, Nederland;X-APPLE-RADIUS=100;X-TITLE=Zaans Museum:geo:0,0
END:VEVENT
BEGIN:VTIMEZONE
TZID:Europe/Amsterdam
X-LIC-LOCATION:Europe/Amsterdam
BEGIN:STANDARD
DTSTART:20241027T020000
TZOFFSETFROM:+0200
TZOFFSETTO:+0100
TZNAME:CET
END:STANDARD
END:VTIMEZONE
END:VCALENDAR