BEGIN:VCALENDAR
VERSION:2.0
PRODID:-//wp-events-plugin.com//7.2.3.1//EN
TZID:Europe/Amsterdam
X-WR-TIMEZONE:Europe/Amsterdam
BEGIN:VEVENT
UID:36986@agenda-zaanstreek.nl
DTSTART;TZID=Europe/Amsterdam:20250220T133000
DTEND;TZID=Europe/Amsterdam:20250220T160000
DTSTAMP:20250123T103832Z
URL:https://agenda-zaanstreek.nl/events/voorleesmiddag-in-het-molenmuseum/
SUMMARY:Voorleesmiddag in het Molenmuseum
DESCRIPTION:\n\n\n\n\n\nTijdens de voorjaarsvakantie organiseren we een gez
 ellige voorleesmiddag!\n\nEr worden verschillende kinderboekjes voorgeleze
 n die zich afspelen in en rondom molens. Perfect voor alle kinderen die va
 n avontuur en fantasie houden!\nHet voorlezen vindt plaatst op verschillen
 de plekken in het museum en op wisselende tijden. Bij de entree wordt aang
 egeven waar op welk moment de kinderen (en volwassenen) kunnen gaan luiste
 ren. In de filmzaal zijn diverse filmpjes voor kinderen te zien.\n\nDe boe
 kjes zijn ook te koop in de museumwinkel.\n\nWanneer:&nbsp\;20 februari 20
 25 tussen 13.30 tot 16.00 uur\nWaar:&nbsp\;Molenmuseum\nVoor wie:&nbsp\;Ki
 nderen van 4 t/m 9\nPrijs:&nbsp\;entree Museum Volwassenen € 12\,00\, Je
 ugd 4 t/m 17 jaar € 6\,00\, leden en museumkaart gratis.\n\nKom langs en
  geniet van magische verhalen!\n\nPluis de molenmuis\n\nWind in de wieken\
 n\n\n
CATEGORIES:Jeugd
LOCATION:Molenmuseum\, Kalverringdijk 30\, Zaandam\, 1509 BT\, Nederland
X-APPLE-STRUCTURED-LOCATION;VALUE=URI;X-ADDRESS=Kalverringdijk 30\, Zaandam
 \, 1509 BT\, Nederland;X-APPLE-RADIUS=100;X-TITLE=Molenmuseum:geo:0,0
END:VEVENT
BEGIN:VTIMEZONE
TZID:Europe/Amsterdam
X-LIC-LOCATION:Europe/Amsterdam
BEGIN:STANDARD
DTSTART:20241027T020000
TZOFFSETFROM:+0200
TZOFFSETTO:+0100
TZNAME:CET
END:STANDARD
END:VTIMEZONE
END:VCALENDAR