BEGIN:VCALENDAR
VERSION:2.0
PRODID:-//wp-events-plugin.com//7.2.3.1//EN
TZID:Europe/Amsterdam
X-WR-TIMEZONE:Europe/Amsterdam
BEGIN:VEVENT
UID:37321@agenda-zaanstreek.nl
DTSTART;TZID=Europe/Amsterdam:20250217T093000
DTEND;TZID=Europe/Amsterdam:20250217T150000
DTSTAMP:20250213T100956Z
URL:https://agenda-zaanstreek.nl/events/voorjaarsvakantie-uitje-mobiel-pla
 netarium-in-de-bieb/
SUMMARY:Voorjaarsvakantie-uitje: mobiel planetarium in De Bieb
DESCRIPTION:De Bieb nodigt kinderen en hun (groot)ouders uit voor een inter
 actieve voorstelling in het mobiel planetarium van De Nederlandse Onderzoe
 kschool voor Astronomie (NOVA). Het mobiel planetarium is een opblaasbare 
 koepel waarin de bezoekers beelden te zien krijgen van planeten\, sterren 
 en andere verschijnselen in het heelal.\n\n\nDankzij beelden van onder mee
 r ESA satellieten als deze (te zien in de SpaceExpo) en gegevens van Neder
 landse telescopen krijgen bezoeker aan het mobiel planetarium beelden te z
 ien van planeten\, sterren en andere verschijnselen in het heelal.&nbsp\;(
 Foto: Dirk Karten)\n\n\nHet publiek zit op kussentjes langs de binnenrand 
 van het planetarium\, met de rug tegen de wand. De ‘operator’ van NOVA
 \, een sterrenkundestudent\, zit in het midden met een snelle laptop en ee
 n speciale beamer. Van daaruit stuurt de operator de interactieve planetar
 iumvoorstelling. Ben jij klaar voor deze bijzondere reis door de ruimte? K
 om gratis genieten van dit leerzame voorjaarsvakantie-uitje. De voorstelli
 ngen zijn geschikt voor alle leeftijden en bezoekers hoeven zich niet van 
 tevoren aan te melden.\nVoorstellingen en locaties\nHet mobiel planetarium
  is te zien in De Bieb Zaandam op maandag 17 februari en in De Bieb Kromme
 nie op dinsdag 18 februari. De voorstellingen worden gegeven op de volgend
 e tijden: voorstelling 1: 09.30 uur tot 10.10 uur\, voorstelling 2: 10.10 
 uur tot 10.50 uur\, Voorstelling 3: 10.50 uur tot 11.30 uur\, voorstelling
  4: 11.30 uur tot 12.10 uur\, voorstelling 5: 12.10 uur tot 12.50 uur\, vo
 orstelling 6: 13.00 uur tot 13.40 uur\, Voorstelling 7: 13.40 uur tot 14.2
 0 uur\, voorstelling 8: 14.20 uur tot 15.00 uur.\n\nWil je meer weten over
  het mobiel planetarium? Kijk dan op&nbsp\;www.astronomie.nl/mobiel-planet
 arium-20\n\n
CATEGORIES:Jeugd,Jeugd en Familie
LOCATION:De Bieb Zaandam\, Westzijde 170 A\, Zaandam\, 1506 EK\, Nederland
X-APPLE-STRUCTURED-LOCATION;VALUE=URI;X-ADDRESS=Westzijde 170 A\, Zaandam\,
  1506 EK\, Nederland;X-APPLE-RADIUS=100;X-TITLE=De Bieb Zaandam:geo:0,0
END:VEVENT
BEGIN:VTIMEZONE
TZID:Europe/Amsterdam
X-LIC-LOCATION:Europe/Amsterdam
BEGIN:STANDARD
DTSTART:20241027T020000
TZOFFSETFROM:+0200
TZOFFSETTO:+0100
TZNAME:CET
END:STANDARD
END:VTIMEZONE
END:VCALENDAR