BEGIN:VCALENDAR
VERSION:2.0
PRODID:-//wp-events-plugin.com//7.2.3.1//EN
TZID:Europe/Amsterdam
X-WR-TIMEZONE:Europe/Amsterdam
BEGIN:VEVENT
UID:37023@agenda-zaanstreek.nl
DTSTART;TZID=Europe/Amsterdam:20250210T201500
DTEND;TZID=Europe/Amsterdam:20250210T201500
DTSTAMP:20250130T090439Z
URL:https://agenda-zaanstreek.nl/events/vonk-dabat-femicide-voor-je-het-we
 et-in-de-greep-van-partnergeweld/
SUMMARY:Vonk Dabat - Femicide - voor je het weet in de greep van partnergew
 eld
DESCRIPTION:\n\n\n\n\n\n\n\n\n\n\n\n\n\n\n\n\n\n\n&nbsp\;\nFemicide - voor 
 je het weet in de greep van partnergeweld\n\n\nMet Jeannie Zuiderwijk orga
 niseren we 10 februari het debat over femicide en partnergeweld.\n\n\nJean
 nie Zuiderwijk is theatermaker. Na jarenlange terreur binnen de muren van 
 haar eigen huis heeft Jeannie de theatrale vertelling Another Day in Parad
 ise gemaakt. Daarin gaat Jeannie op zoek naar het samengaan van liefde en 
 terreur\, en de schuldvraag waar ze zich sindsdien onherroepelijk tot moet
  zien te verhouden.\n\n\nVan deze voorstelling is ook een versie specifiek
  voor leerlingen van MBO- en HBO-opleidingen gemaakt\, waarmee geweld in h
 uiselijke kring bespreekbaar wordt gemaakt voor deze doelgroep.\n\n\nMeer 
 informatie is te vinden op onze website.\n\n\nEen reactie op Another Day i
 n Paradise:\n\n\n“Voor mij is het duidelijk dat het verhaal verteld door
  een slachtoffer\, meer impact heeft dan een training of een theoretische 
 lap tekst in een saai boek”&nbsp\;– Merel Metzing – Adviseur Diversi
 teit\, Inclusie &amp\; Gelijkwaardigheid Politie Nederland\n\n\nKom 10 feb
 ruari naar ons debat\, waar we ook met gemeente en politie in gesprek gaan
 .\n\n\nToegang is gratis\; fijn als je je aanmelding mailt naar info@devon
 k-debat of via deze LINK. Datum interview: 10 februari 2025 Tijd: 19:45 uu
 r deuren open. 20:15 uur start programma. Locatie: De Fabriek\, Jan Sijbra
 ndsteeg 12 in Zaandam\n\n&nbsp\;\nfotograaf David de Lange\n\n\n\n\n\n\n&n
 bsp\;\n\n\n\n\n\n\n\n\n\n\n\n\n\n\n\n\n\n\n\n\n\n\n\n\n\n\n\n\n\n\n\n&nbsp
 \;\n\n\n\n\n\n\n\n\n\n\n\n\n\n
CATEGORIES:Sociaal
LOCATION:Cafe Fabriek\, Jan Sijbrandsstreeg 12\, Zaandam\, 1502 BA\, Nederl
 and
X-APPLE-STRUCTURED-LOCATION;VALUE=URI;X-ADDRESS=Jan Sijbrandsstreeg 12\, Za
 andam\, 1502 BA\, Nederland;X-APPLE-RADIUS=100;X-TITLE=Cafe Fabriek:geo:0,
 0
END:VEVENT
BEGIN:VTIMEZONE
TZID:Europe/Amsterdam
X-LIC-LOCATION:Europe/Amsterdam
BEGIN:STANDARD
DTSTART:20241027T020000
TZOFFSETFROM:+0200
TZOFFSETTO:+0100
TZNAME:CET
END:STANDARD
END:VTIMEZONE
END:VCALENDAR