BEGIN:VCALENDAR
VERSION:2.0
PRODID:-//wp-events-plugin.com//7.2.3.1//EN
TZID:Europe/Amsterdam
X-WR-TIMEZONE:Europe/Amsterdam
BEGIN:VEVENT
UID:36886@agenda-zaanstreek.nl
DTSTART;TZID=Europe/Amsterdam:20250208T100000
DTEND;TZID=Europe/Amsterdam:20250208T100000
DTSTAMP:20250120T204607Z
URL:https://agenda-zaanstreek.nl/events/vogelsafari-twiske-op-zoek-naar-wi
 ntergasten-in-2025-worden-weer-2-vogelsafaris-georganiseerd-door-ivn-twisk
 e/
SUMMARY:Vogelsafari Twiske\; op zoek naar wintergasten
DESCRIPTION:\n\nIn 2025 worden weer 2 vogelsafari’s georganiseerd door IV
 N Twiske. In groepjes van 8 personen (gemengd: beginners én gevorderden) 
 wordt er op zoek gegaan naar vogels. Van tevoren ontvangen de deelnemers e
 en routebeschrijving en info over de te verwachten vogels. De organisatie 
 ligt in handen van de natuurgidsen Ingrid Eegerdingk en Wilma de Ruijter\,
  ondersteund door meerdere goede vogelaars.\n\nVeel mensen zijn de laatste
  jaren geïnteresseerd geraakt in vogels. Maar vogels herkennen is voor ee
 n beginner niet eenvoudig\; het is fijn als je daarbij geholpen wordt door
  mensen die al (enige) ervaring hebben. Maar ook voor meer gevorderde voge
 lkenners is deze safari interessant: door met meerdere mensen op zoek te g
 aan naar vogels zie je meer dan wanneer je alleen bent\, er zijn meer ogen
  en oren. Verder is het heel leuk om je kennis en ervaring te delen met an
 deren. Bovendien is het gezellig. In deze vogelsafari ligt het accent op d
 e wintergasten. De vogels die het Twiske uitkiezen om de winter door te ko
 men.\n\nAanmelden\n\n\n&nbsp\;\nhttps://www.ivn.nl/afdeling/twiske/natuura
 ctiviteiten/vogelsafari-twiske-op-zoek-naar-wintergasten-2&nbsp\;
CATEGORIES:Excursie
LOCATION:Het Twiske | Zorgboerderij De Marsen\, Pikpotweg 1\, Landsmeer\, 1
 121 HZ\, Nederland
X-APPLE-STRUCTURED-LOCATION;VALUE=URI;X-ADDRESS=Pikpotweg 1\, Landsmeer\, 1
 121 HZ\, Nederland;X-APPLE-RADIUS=100;X-TITLE=Het Twiske | Zorgboerderij D
 e Marsen:geo:0,0
END:VEVENT
BEGIN:VTIMEZONE
TZID:Europe/Amsterdam
X-LIC-LOCATION:Europe/Amsterdam
BEGIN:STANDARD
DTSTART:20241027T020000
TZOFFSETFROM:+0200
TZOFFSETTO:+0100
TZNAME:CET
END:STANDARD
END:VTIMEZONE
END:VCALENDAR