BEGIN:VCALENDAR
VERSION:2.0
PRODID:-//wp-events-plugin.com//7.2.3.1//EN
TZID:Europe/Amsterdam
X-WR-TIMEZONE:Europe/Amsterdam
BEGIN:VEVENT
UID:37547@agenda-zaanstreek.nl
DTSTART;TZID=Europe/Amsterdam:20250302T100000
DTEND;TZID=Europe/Amsterdam:20250302T153000
DTSTAMP:20250227T104618Z
URL:https://agenda-zaanstreek.nl/events/vlooienmarkt-in-de-sporthal-wormer
 /
SUMMARY:Vlooienmarkt in de Sporthal Wormer
DESCRIPTION:Kom struinen!\nEr is hier van alles te vinden. Speelgoed\, boek
 en of galakleding\, curiosa\, sieraden\, gereedschap\, electronica en anti
 ek. Particulieren verkopen je hier van alles en je hebt vaak ogen tekort. 
 Wat voor de één weinig of geen waarde meer heeft kan voor de ander nog z
 eer bruikbaar zijn. En over de prijs valt altijd te onderhandelen. Kom str
 uinen in Wormer en beleef een gezellig dagje uit om daarna thuis te komen 
 met talloze koopjes en bijzondere schatten!\n\nDe koffie staat klaar in he
 t restaurant en parkeren in de buurt is gratis.\n\nBron De Orkaan
CATEGORIES:Markt Braderie
LOCATION:Sporthal Wormer\, Spatterstraat 21\, Wormer\, 1531 DA\, Nederland
X-APPLE-STRUCTURED-LOCATION;VALUE=URI;X-ADDRESS=Spatterstraat 21\, Wormer\,
  1531 DA\, Nederland;X-APPLE-RADIUS=100;X-TITLE=Sporthal Wormer:geo:0,0
END:VEVENT
BEGIN:VTIMEZONE
TZID:Europe/Amsterdam
X-LIC-LOCATION:Europe/Amsterdam
BEGIN:STANDARD
DTSTART:20241027T020000
TZOFFSETFROM:+0200
TZOFFSETTO:+0100
TZNAME:CET
END:STANDARD
END:VTIMEZONE
END:VCALENDAR