BEGIN:VCALENDAR
VERSION:2.0
PRODID:-//wp-events-plugin.com//7.2.3.1//EN
TZID:Europe/Amsterdam
X-WR-TIMEZONE:Europe/Amsterdam
BEGIN:VEVENT
UID:38124@agenda-zaanstreek.nl
DTSTART;TZID=Europe/Amsterdam:20250419T100000
DTEND;TZID=Europe/Amsterdam:20250419T170000
DTSTAMP:20250407T191403Z
URL:https://agenda-zaanstreek.nl/events/vintage-paasspeurtocht-garage-sale
 -krommenie/
SUMMARY:Vintage Paasspeurtocht Garage Sale Krommenie
DESCRIPTION:\nHET IS WEER ZOVER… \n\n\nDeze legendarische Vintage Paasspe
 urtocht is terug! Kom je samen met het gezin snuffelen door een tweedehand
 swinkel?\n\n\nOp 19 april verandert Garage Sale Krommenie in een heuze sch
 atkamer\, speciaal voor jou en je kids. Gewapend met een schatkaart\, een 
 mysterieuze foto én een mandje gaan jullie op jacht naar verstopte paasei
 tjes (en tweedehands of vintage parels).\n\n\nWaarom je hierbij moet zijn?
 \n Het is dé kans om samen te genieten van wat quality time\n Terwijl de 
 kids druk aan het speuren zijn\, kan jij struinen tussen onze 1.000 m2 aan
  vintage en tweedehands parels\n Geschikt voor alle leeftijden door een ma
 kkelijke en een moeilijke route.\n\n\nWil je alle praktische info of een v
 olledig programma? Lees dan dit artikel op onze website: https://www.garag
 e-sale-krommenie.nl/.../vintage...\n\n\nWelke mede-ouder is ook altijd in 
 voor een bijzonder &amp\; tweedehands uitje? Tag ze in de comments of stuu
 r dit event aan ze door! \n\n\n Noordervaartdijk 10\, Krommenie\n 19 april
 \, 10:00 - 17:00 (vrije inloop)\n €6\,50 per kind\n\n\nWe waarderen een 
 reactie op ons Facebook evenement enorm\, zodat we een inschatting kunnen 
 maken van hoeveel mensen we kunnen verwachten.\n
CATEGORIES:Jeugd
LOCATION:Garage Sale Krommenie\, Noordervaartdijk 10\, Krommenie\, Krommeni
 e\, Nederland
X-APPLE-STRUCTURED-LOCATION;VALUE=URI;X-ADDRESS=Noordervaartdijk 10\, Kromm
 enie\, Krommenie\, Nederland;X-APPLE-RADIUS=100;X-TITLE=Garage Sale Kromme
 nie:geo:0,0
END:VEVENT
BEGIN:VTIMEZONE
TZID:Europe/Amsterdam
X-LIC-LOCATION:Europe/Amsterdam
BEGIN:DAYLIGHT
DTSTART:20250330T030000
TZOFFSETFROM:+0100
TZOFFSETTO:+0200
TZNAME:CEST
END:DAYLIGHT
END:VTIMEZONE
END:VCALENDAR