BEGIN:VCALENDAR
VERSION:2.0
PRODID:-//wp-events-plugin.com//7.2.3.1//EN
TZID:Europe/Amsterdam
X-WR-TIMEZONE:Europe/Amsterdam
BEGIN:VEVENT
UID:38700@agenda-zaanstreek.nl
DTSTART;TZID=Europe/Amsterdam:20250525T150000
DTEND;TZID=Europe/Amsterdam:20250525T150000
DTSTAMP:20250515T075653Z
URL:https://agenda-zaanstreek.nl/events/vier-de-zondag-met-duo-string-of-h
 earts/
SUMMARY:Vier de Zondag met duo String of Hearts
DESCRIPTION:Zondag 25 mei gaan de deuren van Buurthuis de Kolk\, Klampersst
 raat 1 in Zaandam\, &nbsp\;weer wijd open voor een optreden van het duo St
 ring of Hearts.\n\nString of Hearts bestaat in de basis uit twee Hossen. M
 ichael en Nina. Michael is al jaren actief in de muziek. Heeft als zanger 
 van onder andere prog-rock band Ulysses twee albums uitgebracht en gastrol
 len op diverse albums verzorgt. Nina is de dochter van zijn broer. Zij zin
 gt als het even kan de hele dag door en begeleid zichzelf op de ukelele. \
 n\n&nbsp\;Al een paar keer eerder deelden zij het podium met Sick Sabbath 
 (Black Sabbath Tribute band)\, waar ze de ballad ‘changes’ van Ozzy en
  Kelly Osbourne vertolkten. Maar ook het samenspel op een jubileumfeest sm
 aakte naar meer. Overtuigd van de juiste match van hun stemmen\, de voorli
 efde voor oude en nieuwe muziek besloten zij het professioneler aan te pak
 ken. \n\n&nbsp\;Met een voorliefde voor liedjes die wat betekenen en wat m
 et je doen. Met een bestaan waar muziek altijd hun houvast is geweest kiez
 en zij enerzijds voor songs die raken en anderzijds voor eigentijds bewerk
 ingen van bekende oude en nieuwe hits. Covers\, maar ook zelfgeschreven so
 ngs. Met meerstemmige zang\, afwisselende vocalen en diverse instrumenten.
  Altijd gemeend en altijd vanuit het hart.\n\nHet optreden begint om 15.00
  uur\, de deuren gaan open om 14.30 uur.\n\nDe entree is gratis\, aan het 
 eind van het optreden vragen wij een vrijwillige bijdrage.
CATEGORIES:Muziek,Sociaal
LOCATION:Buurthuis De Kolk\, Klamperstraat 1\, Zaandam\, 1502 VP\, Nederlan
 d
X-APPLE-STRUCTURED-LOCATION;VALUE=URI;X-ADDRESS=Klamperstraat 1\, Zaandam\,
  1502 VP\, Nederland;X-APPLE-RADIUS=100;X-TITLE=Buurthuis De Kolk:geo:0,0
END:VEVENT
BEGIN:VTIMEZONE
TZID:Europe/Amsterdam
X-LIC-LOCATION:Europe/Amsterdam
BEGIN:DAYLIGHT
DTSTART:20250330T030000
TZOFFSETFROM:+0100
TZOFFSETTO:+0200
TZNAME:CEST
END:DAYLIGHT
END:VTIMEZONE
END:VCALENDAR