BEGIN:VCALENDAR
VERSION:2.0
PRODID:-//wp-events-plugin.com//7.2.3.1//EN
TZID:Europe/Amsterdam
X-WR-TIMEZONE:Europe/Amsterdam
BEGIN:VEVENT
UID:36880@agenda-zaanstreek.nl
DTSTART;TZID=Europe/Amsterdam:20250126T143000
DTEND;TZID=Europe/Amsterdam:20250126T173000
DTSTAMP:20250120T084647Z
URL:https://agenda-zaanstreek.nl/events/vier-de-zondag-met-anton-arema/
SUMMARY:Vier de Zondag met Anton Arema
DESCRIPTION:
CATEGORIES:Muziek,Sociaal
LOCATION:Buurthuis De Kolk\, Klamperstraat 1\, Zaandam\, 1502 VP\, Nederlan
 d
X-APPLE-STRUCTURED-LOCATION;VALUE=URI;X-ADDRESS=Klamperstraat 1\, Zaandam\,
  1502 VP\, Nederland;X-APPLE-RADIUS=100;X-TITLE=Buurthuis De Kolk:geo:0,0
END:VEVENT
BEGIN:VTIMEZONE
TZID:Europe/Amsterdam
X-LIC-LOCATION:Europe/Amsterdam
BEGIN:STANDARD
DTSTART:20241027T020000
TZOFFSETFROM:+0200
TZOFFSETTO:+0100
TZNAME:CET
END:STANDARD
END:VTIMEZONE
END:VCALENDAR