BEGIN:VCALENDAR
VERSION:2.0
PRODID:-//wp-events-plugin.com//7.2.3.1//EN
TZID:Europe/Amsterdam
X-WR-TIMEZONE:Europe/Amsterdam
BEGIN:VEVENT
UID:37623@agenda-zaanstreek.nl
DTSTART;TZID=Europe/Amsterdam:20250321T193000
DTEND;TZID=Europe/Amsterdam:20250321T193000
DTSTAMP:20250306T085426Z
URL:https://agenda-zaanstreek.nl/events/vier-340ste-verjaardag-bach-met-bi
 jzondere-matthaus-passion-lezing/
SUMMARY:Vier 340ste verjaardag Bach met bijzondere Matthäus Passion lezing
DESCRIPTION:Op 21 maart 2025 is het 340 jaar geleden dat Johann Sebastian B
 ach geboren werd. Dat wordt in Westzaan gevierd met een bijzondere lezing 
 over de genialiteit van de Matthäus Passion. Aan de hand van muziekfragme
 nten neemt muziekliefhebber Daniël van Horssen u mee door dit overweldige
 nde muziekstuk. Vanaf 19.00 zijn de deuren aan de J.J. Allanstraat 185 te 
 Westzaan voor u geopend en om 19.30 uur start de lezing. Halverwege de avo
 nd is er nog een pauze met een hapje en een drankje. We zien uit naar een 
 gezellige en indrukwekkende bijeenkomst. De avond is vrij toegankelijk. Er
  wordt een collecte gehouden ter bestrijding van de onkosten. Aanmelden ka
 n via dvanhorssen@planet.nl. Van harte welkom!\n\n
LOCATION:Christelijke Gereformeerde Kerk\, J.J. Allanstraat 185\, Westzaan\
 , 1551 RD\, Nederland
X-APPLE-STRUCTURED-LOCATION;VALUE=URI;X-ADDRESS=J.J. Allanstraat 185\, West
 zaan\, 1551 RD\, Nederland;X-APPLE-RADIUS=100;X-TITLE=Christelijke Gerefor
 meerde Kerk:geo:0,0
END:VEVENT
BEGIN:VTIMEZONE
TZID:Europe/Amsterdam
X-LIC-LOCATION:Europe/Amsterdam
BEGIN:STANDARD
DTSTART:20241027T020000
TZOFFSETFROM:+0200
TZOFFSETTO:+0100
TZNAME:CET
END:STANDARD
END:VTIMEZONE
END:VCALENDAR