BEGIN:VCALENDAR
VERSION:2.0
PRODID:-//wp-events-plugin.com//7.2.3.1//EN
TZID:Europe/Amsterdam
X-WR-TIMEZONE:Europe/Amsterdam
BEGIN:VEVENT
UID:35561@agenda-zaanstreek.nl
DTSTART;TZID=Europe/Amsterdam:20241104T200000
DTEND;TZID=Europe/Amsterdam:20241104T200000
DTSTAMP:20241031T110649Z
URL:https://agenda-zaanstreek.nl/events/verzoening-filmavond-met-maaltijd-
 vooraf/
SUMMARY:Verzoening: filmavond met maaltijd vooraf
DESCRIPTION:Geloof\, hoop\, liefde…\nDe Doopsgezinde Gemeenten van Zaanda
 m\, Koog\, Zaandijk en Westzaan\, en van Krommenie willen graag een kijkje
  geven in de geschiedenis en het gedachtengoed van de Doopsgezinden. Dat d
 oen ze in een reeks openbare lezingen\, een filmavond en een excursie: op 
 5 avonden in het najaar komen belangrijke en actuele thema’s aan bod. Va
 navond een filmavond met maaltijd vooraf.\n&nbsp\;
CATEGORIES:Interkerkelijk
LOCATION:Doopsgezinde Vermaning Zaandam\, Westzijde 80\, Zaandam\, 1506 EG\
 , Nederland
X-APPLE-STRUCTURED-LOCATION;VALUE=URI;X-ADDRESS=Westzijde 80\, Zaandam\, 15
 06 EG\, Nederland;X-APPLE-RADIUS=100;X-TITLE=Doopsgezinde Vermaning Zaanda
 m:geo:0,0
END:VEVENT
BEGIN:VTIMEZONE
TZID:Europe/Amsterdam
X-LIC-LOCATION:Europe/Amsterdam
BEGIN:STANDARD
DTSTART:20241027T020000
TZOFFSETFROM:+0200
TZOFFSETTO:+0100
TZNAME:CET
END:STANDARD
END:VTIMEZONE
END:VCALENDAR