BEGIN:VCALENDAR
VERSION:2.0
PRODID:-//wp-events-plugin.com//7.2.3.1//EN
TZID:Europe/Amsterdam
X-WR-TIMEZONE:Europe/Amsterdam
BEGIN:VEVENT
UID:36076@agenda-zaanstreek.nl
DTSTART;TZID=Europe/Amsterdam:20241214T100000
DTEND;TZID=Europe/Amsterdam:20241214T140000
DTSTAMP:20241128T111608Z
URL:https://agenda-zaanstreek.nl/events/verzamelbeurs-in-buurthuis-de-kolk
 /
SUMMARY:Verzamelbeurs in Buurthuis de Kolk
DESCRIPTION:De Verzamelaar afdeling Zaanstreek Water- en Kennemerland organ
 iseert vandaag weer de maandelijkse verzamelbeurs in Buurthuis de Kolk. Hi
 er kun je terecht voor postzegels\, munten\, oude ansichtkaarten\, sigaren
 bandjes\, boodschappenmuntjes en wat er ook maar te verzamelen valt.\nVoor
  meer informatie en reserveringen Dhr. J. Zandbergen 06 39439777 en Dhr. W
 . Loman 075-6354316.
LOCATION:Buurthuis De Kolk\, Klamperstraat 1\, Zaandam\, 1502 VP\, Nederlan
 d
X-APPLE-STRUCTURED-LOCATION;VALUE=URI;X-ADDRESS=Klamperstraat 1\, Zaandam\,
  1502 VP\, Nederland;X-APPLE-RADIUS=100;X-TITLE=Buurthuis De Kolk:geo:0,0
END:VEVENT
BEGIN:VTIMEZONE
TZID:Europe/Amsterdam
X-LIC-LOCATION:Europe/Amsterdam
BEGIN:STANDARD
DTSTART:20241027T020000
TZOFFSETFROM:+0200
TZOFFSETTO:+0100
TZNAME:CET
END:STANDARD
END:VTIMEZONE
END:VCALENDAR