BEGIN:VCALENDAR
VERSION:2.0
PRODID:-//wp-events-plugin.com//7.2.3.1//EN
TZID:Europe/Amsterdam
X-WR-TIMEZONE:Europe/Amsterdam
BEGIN:VEVENT
UID:39628@agenda-zaanstreek.nl
DTSTART;TZID=Europe/Amsterdam:20250913T130000
DTEND;TZID=Europe/Amsterdam:20250914T170000
DTSTAMP:20250717T094209Z
URL:https://agenda-zaanstreek.nl/events/verscheidenheid-en-verbondenheid-i
 n-het-weefhuis/
SUMMARY:Verscheidenheid en Verbondenheid in het Weefhuis
DESCRIPTION:\n\nVerscheidenheid en Verbondenheid in het Weefhuis\n\n13 sep 
 2025 - 14 sep 2025&nbsp\;\n13:00 - 17:00 uur\n\nExpositie\n\n\nPaul Verbun
 t\, Tim Knol\, Jacqueline Mulier\, Trudi Sennhauser\, Herman Wieten en Rob
  Verweij vormen samen het collectief ‘De ZesFotografen’. Niet vaak wer
 kt het collectief aan een gezamenlijk onderwerp voor een expositie maar ve
 rtelt iedere fotograaf zijn/haar eigen verhaal. Het werk van Tim daagt de 
 toeschouwer uit om verder te kijken dan het voor de hand [...]\nLees meer\
 n
CATEGORIES:Expositie
LOCATION:Het Weefhuis\, Lagedijk 39\, Zaandijk\, 1544 BB\, Nederland
X-APPLE-STRUCTURED-LOCATION;VALUE=URI;X-ADDRESS=Lagedijk 39\, Zaandijk\, 15
 44 BB\, Nederland;X-APPLE-RADIUS=100;X-TITLE=Het Weefhuis:geo:0,0
END:VEVENT
BEGIN:VTIMEZONE
TZID:Europe/Amsterdam
X-LIC-LOCATION:Europe/Amsterdam
BEGIN:DAYLIGHT
DTSTART:20250330T030000
TZOFFSETFROM:+0100
TZOFFSETTO:+0200
TZNAME:CEST
END:DAYLIGHT
END:VTIMEZONE
END:VCALENDAR