BEGIN:VCALENDAR
VERSION:2.0
PRODID:-//wp-events-plugin.com//7.2.3.1//EN
TZID:Europe/Amsterdam
X-WR-TIMEZONE:Europe/Amsterdam
BEGIN:VEVENT
UID:40914@agenda-zaanstreek.nl
DTSTART;TZID=Europe/Amsterdam:20251219T230000
DTEND;TZID=Europe/Amsterdam:20251219T230000
DTSTAMP:20251218T104314Z
URL:https://agenda-zaanstreek.nl/events/verknipt-presents-santos-all-night
 -long/
SUMMARY:VERKNIPT Presents SANTOS All Night Long
DESCRIPTION:\n\n\n\n\n\n&nbsp\;\n\nMuziek\n\n\n\n\n\nVrijdag 19 december 20
 25\n\nHemkade 48\, Hemkade\, Zaandam\, Nederland\n\n\n\n23:00 - 06:00\n\n\
 n\n€ 24\,24\n\n\n\nWebsite van het evenement\n\n\n&nbsp\;\n\n\n\n\nSANT
 ØS All-Nighter\nSANTØS brengt zijn harde\, industriële technosound met 
 duidelijke 90’s invloeden naar een speciale all-nighter. In een boiler r
 oom-opstelling sta je dicht op de actie en midden in de energie. Verwacht 
 exclusieve tracks\, speciale edits en een avond zonder compromis.\n\n\n\n\
 n
CATEGORIES:Muziek
LOCATION:North Sea Venue\, Hemkade 48\, Zaandam\, 1506 PS\, Nederland
X-APPLE-STRUCTURED-LOCATION;VALUE=URI;X-ADDRESS=Hemkade 48\, Zaandam\, 1506
  PS\, Nederland;X-APPLE-RADIUS=100;X-TITLE=North Sea Venue:geo:0,0
END:VEVENT
BEGIN:VTIMEZONE
TZID:Europe/Amsterdam
X-LIC-LOCATION:Europe/Amsterdam
BEGIN:STANDARD
DTSTART:20251026T020000
TZOFFSETFROM:+0200
TZOFFSETTO:+0100
TZNAME:CET
END:STANDARD
END:VTIMEZONE
END:VCALENDAR