BEGIN:VCALENDAR
VERSION:2.0
PRODID:-//wp-events-plugin.com//7.2.3.1//EN
TZID:Europe/Amsterdam
X-WR-TIMEZONE:Europe/Amsterdam
BEGIN:VEVENT
UID:39382@agenda-zaanstreek.nl
DTSTART;TZID=Europe/Amsterdam:20250705T120000
DTEND;TZID=Europe/Amsterdam:20250705T120000
DTSTAMP:20250701T190643Z
URL:https://agenda-zaanstreek.nl/events/vegan-sister-potluck/
SUMMARY:Vegan Sister Potluck 
DESCRIPTION:&nbsp\;Vegan Sister Potluck&nbsp\;&nbsp\;Alleen voor dames&nbsp
 \;\nKom gezellig samen op zaterdag 5 juli om 12:00 uur in het mooie Agatha
 park in Krommenie!\n&nbsp\;Neem iets heerlijks plantaardigs mee om te dele
 n – eten én drinken.&nbsp\;Vergeet je picknickkleedje niet! Of neem een
  klapstoeltje mee&nbsp\;&nbsp\;We genieten samen van al het lekkers\, goed
 e gesprekken en fijne zusterlijke vibes.\n&nbsp\;Let op: deze bijeenkomst 
 gaat alleen door bij mooi weer.\nVind je het nu lastig om iets plantaardig
 s mee te nemen. Een volkoren brood en een pot pindakaas en je maakt belegd
 e broodjes pindakaas. Het hoeft niet culinair te zijn.\n&nbsp\;\nWe hopen 
 je daar te zien!&nbsp\;
LOCATION:Agathepark\, Parklaan\, Krommenie\, 1561 CM\, Krommenie\, Nederlan
 d
X-APPLE-STRUCTURED-LOCATION;VALUE=URI;X-ADDRESS=Parklaan\, Krommenie\, 1561
  CM\, Krommenie\, Nederland;X-APPLE-RADIUS=100;X-TITLE=Agathepark:geo:0,0
END:VEVENT
BEGIN:VTIMEZONE
TZID:Europe/Amsterdam
X-LIC-LOCATION:Europe/Amsterdam
BEGIN:DAYLIGHT
DTSTART:20250330T030000
TZOFFSETFROM:+0100
TZOFFSETTO:+0200
TZNAME:CEST
END:DAYLIGHT
END:VTIMEZONE
END:VCALENDAR