BEGIN:VCALENDAR
VERSION:2.0
PRODID:-//wp-events-plugin.com//7.2.3.1//EN
TZID:Europe/Amsterdam
X-WR-TIMEZONE:Europe/Amsterdam
BEGIN:VEVENT
UID:36757@agenda-zaanstreek.nl
DTSTART;TZID=Europe/Amsterdam:20250203T100000
DTEND;TZID=Europe/Amsterdam:20250205T100000
DTSTAMP:20250109T153557Z
URL:https://agenda-zaanstreek.nl/events/valpreventie-met-blijf-fit-in-de-b
 ovenkruier-gratis-in-februari/
SUMMARY:Valpreventie met Blijf Fit in De Bovenkruier - Gratis in februari
DESCRIPTION:
CATEGORIES:Recreatiesport,Sociaal
LOCATION:Buurtcentrum De Bovenkruier\, Drielse Wetering 49\, Zaandam\, 1509
  KP\, Nederland
X-APPLE-STRUCTURED-LOCATION;VALUE=URI;X-ADDRESS=Drielse Wetering 49\, Zaand
 am\, 1509 KP\, Nederland;X-APPLE-RADIUS=100;X-TITLE=Buurtcentrum De Bovenk
 ruier:geo:0,0
END:VEVENT
BEGIN:VTIMEZONE
TZID:Europe/Amsterdam
X-LIC-LOCATION:Europe/Amsterdam
BEGIN:STANDARD
DTSTART:20241027T020000
TZOFFSETFROM:+0200
TZOFFSETTO:+0100
TZNAME:CET
END:STANDARD
END:VTIMEZONE
END:VCALENDAR