BEGIN:VCALENDAR
VERSION:2.0
PRODID:-//wp-events-plugin.com//7.2.3.1//EN
TZID:Europe/Amsterdam
X-WR-TIMEZONE:Europe/Amsterdam
BEGIN:VEVENT
UID:37123@agenda-zaanstreek.nl
DTSTART;TZID=Europe/Amsterdam:20250215T200000
DTEND;TZID=Europe/Amsterdam:20250215T233000
DTSTAMP:20250130T141111Z
URL:https://agenda-zaanstreek.nl/events/valentijnsbal/
SUMMARY:Valentijnsbal
DESCRIPTION:\n\n\n\n\nValentijnsbal\n\n&nbsp\;\n15 feb. 2025 20:00 - 15 feb
 . 2025 23:30\n\n\n\nKoop tickets\n\n\n\n\n&nbsp\;
CATEGORIES:Dans
LOCATION:Dans Hotspot Van Kooten\, Westzijde 71\, Zaandam\, 1506 EC\, Neder
 land
X-APPLE-STRUCTURED-LOCATION;VALUE=URI;X-ADDRESS=Westzijde 71\, Zaandam\, 15
 06 EC\, Nederland;X-APPLE-RADIUS=100;X-TITLE=Dans Hotspot Van Kooten:geo:0
 ,0
END:VEVENT
BEGIN:VTIMEZONE
TZID:Europe/Amsterdam
X-LIC-LOCATION:Europe/Amsterdam
BEGIN:STANDARD
DTSTART:20241027T020000
TZOFFSETFROM:+0200
TZOFFSETTO:+0100
TZNAME:CET
END:STANDARD
END:VTIMEZONE
END:VCALENDAR