BEGIN:VCALENDAR
VERSION:2.0
PRODID:-//wp-events-plugin.com//7.2.3.1//EN
TZID:Europe/Amsterdam
X-WR-TIMEZONE:Europe/Amsterdam
BEGIN:VEVENT
UID:37106@agenda-zaanstreek.nl
DTSTART;TZID=Europe/Amsterdam:20250214T093000
DTEND;TZID=Europe/Amsterdam:20250214T100000
DTSTAMP:20250130T131948Z
URL:https://agenda-zaanstreek.nl/events/valentijns-wandeltocht/
SUMMARY:Valentijns wandeltocht
DESCRIPTION:Wandelen is gezond maar vooral ook leuk. Zo leer je nog eens de
  Zaanstreek op een andere manier kennen. Je kunt vandaag bij Tennisverenig
 ing De Cromme Bal starten voor een wandeling van 10 of 15 kilometer. De gr
 oepstart is om 9:30 uur\, wil je niet met de groep dan kun je tot 10:00 uu
 r beginnen aan de wandeling. Je krijgt een parcoursbeschrijving en een kop
 je koffie of thee.
CATEGORIES:Recreatiesport
LOCATION:Tennisvereniging De Cromme Bal\, Rosariumpark 184\, Krommenie\, Ne
 derland
X-APPLE-STRUCTURED-LOCATION;VALUE=URI;X-ADDRESS=Rosariumpark 184\, Krommeni
 e\, Nederland;X-APPLE-RADIUS=100;X-TITLE=Tennisvereniging De Cromme Bal:ge
 o:0,0
END:VEVENT
BEGIN:VTIMEZONE
TZID:Europe/Amsterdam
X-LIC-LOCATION:Europe/Amsterdam
BEGIN:STANDARD
DTSTART:20241027T020000
TZOFFSETFROM:+0200
TZOFFSETTO:+0100
TZNAME:CET
END:STANDARD
END:VTIMEZONE
END:VCALENDAR