BEGIN:VCALENDAR
VERSION:2.0
PRODID:-//wp-events-plugin.com//7.2.3.1//EN
TZID:Europe/Amsterdam
X-WR-TIMEZONE:Europe/Amsterdam
BEGIN:VEVENT
UID:36879@agenda-zaanstreek.nl
DTSTART;TZID=Europe/Amsterdam:20250214T180000
DTEND;TZID=Europe/Amsterdam:20250214T180000
DTSTAMP:20250119T195928Z
URL:https://agenda-zaanstreek.nl/events/valentijns-shared-dinner/
SUMMARY:Valentijns Shared Dinner
DESCRIPTION:\n&nbsp\;\nOp 14 Februari vieren we de liefde met gedurende een
  menu bestaande uit 9 gerechtjes neemt BSTEREO je mee op een waanzinnige m
 uzikale reis langs alle hits van toen en uiteraard ook van nu\, omgetoverd
  in een op maat gemaakt akoestisch jasje.\nMet een GOLDEN TICKET 2P maak j
 e de avond uniek. Dit ticket is geldig voor 2 personen! Per stel koop je d
 us 1 GOLDEN TICKET.Elk stel heeft wel een liedje wat echt 'van hun' is. Ge
 ef jullie liedje en persoonlijke boodschap door bij de opmerkingen in de r
 eservering en 2BeStereo zorgt voor een uniek moment waarbij jullie liedje 
 in de spotlight staat.\nHet reguliere ticket is geldig voor 1 persoon.
CATEGORIES:Horeca,Muziek
LOCATION:Dorpshuis Wijdewormer Dorpstheater TOWN 1456\, Wijdewormerplein 3\
 , Wijdewormer\, 1456 CB\, Nederland
X-APPLE-STRUCTURED-LOCATION;VALUE=URI;X-ADDRESS=Wijdewormerplein 3\, Wijdew
 ormer\, 1456 CB\, Nederland;X-APPLE-RADIUS=100;X-TITLE=Dorpshuis Wijdeworm
 er Dorpstheater TOWN 1456:geo:0,0
END:VEVENT
BEGIN:VTIMEZONE
TZID:Europe/Amsterdam
X-LIC-LOCATION:Europe/Amsterdam
BEGIN:STANDARD
DTSTART:20241027T020000
TZOFFSETFROM:+0200
TZOFFSETTO:+0100
TZNAME:CET
END:STANDARD
END:VTIMEZONE
END:VCALENDAR