BEGIN:VCALENDAR
VERSION:2.0
PRODID:-//wp-events-plugin.com//7.2.3.1//EN
TZID:Europe/Amsterdam
X-WR-TIMEZONE:Europe/Amsterdam
BEGIN:VEVENT
UID:38174@agenda-zaanstreek.nl
DTSTART;TZID=Europe/Amsterdam:20250413T133000
DTEND;TZID=Europe/Amsterdam:20250413T153000
DTSTAMP:20250410T090344Z
URL:https://agenda-zaanstreek.nl/events/vaartocht-varen-in-het-voorjaar/
SUMMARY:Vaartocht Varen in het voorjaar
DESCRIPTION:Datum/Tijd:&nbsp\;zondag 13 april 2025 – 13:30&nbsp\;–&nbsp
 \;15:30\n\nLocatie:&nbsp\;Bezoekerscentrum de Poelboerderij\n\nExcursie va
 artocht:&nbsp\;Varen in het voorjaar\n\nVaar mee door het Wormer- en Jispe
 rveld. Geniet op deze boottocht van de roepende vogels: het is voorjaar! G
 a mee en luister naar&nbsp\;de geluiden van de weidevogels in dit oer-Holl
 andse veengebied.&nbsp\;Tijdens de boottocht varen we door het gebied lang
 s weilanden met grutto’s en andere weidevogels.&nbsp\;Grutto’s zoeken 
 een broedplekje in het veld\, net als de tureluurs en kieviten. Hun geroep
  is een prachtig voorjaarsgeluid.&nbsp\;Onderweg komen we ook andere vogel
 s tegen.\n\nExcursie vaartocht door het Wormer- en Jisperveld met gids. Ve
 rtrek: 13:30 uur.\n\n\nReserveren is noodzakelijk en kan telefonisch&nbsp\
 ;075-6219100&nbsp\;tot 1½ uur voor vertrek of per mail (alleen op werkdag
 en tussen 9:00 en 16:00 uur)&nbsp\;bezoekerscentrum@poelboerderij.nl&nbsp\
 ;onder vermelding van naam\, aantal personen en telefoonnummer.\n\n\nHet t
 arief voor een vaartocht inclusief koffie of thee:\n– volwassenen is 17\
 ,50 euro\n– vrienden van de Poelboerderij 15 euro\n– kinderen t/m 12 j
 aar 5 euro\n\n\n
CATEGORIES:Excursie
LOCATION:Bezoekerscentrum De Poelboerderij\, Veerdijk 106\, Wormer\, 1531 M
 B\, Wormer\, Nederland
X-APPLE-STRUCTURED-LOCATION;VALUE=URI;X-ADDRESS=Veerdijk 106\, Wormer\, 153
 1 MB\, Wormer\, Nederland;X-APPLE-RADIUS=100;X-TITLE=Bezoekerscentrum De P
 oelboerderij:geo:0,0
END:VEVENT
BEGIN:VTIMEZONE
TZID:Europe/Amsterdam
X-LIC-LOCATION:Europe/Amsterdam
BEGIN:DAYLIGHT
DTSTART:20250330T030000
TZOFFSETFROM:+0100
TZOFFSETTO:+0200
TZNAME:CEST
END:DAYLIGHT
END:VTIMEZONE
END:VCALENDAR