BEGIN:VCALENDAR
VERSION:2.0
PRODID:-//wp-events-plugin.com//7.2.3.1//EN
TZID:Europe/Amsterdam
X-WR-TIMEZONE:Europe/Amsterdam
BEGIN:VEVENT
UID:39085@agenda-zaanstreek.nl
DTSTART;TZID=Europe/Amsterdam:20250704T160000
DTEND;TZID=Europe/Amsterdam:20250704T160000
DTSTAMP:20250605T094448Z
URL:https://agenda-zaanstreek.nl/events/tropical-vrijmibo/
SUMMARY:Tropical VrijMiBo
DESCRIPTION:We gaan in stijl de vakantie inluiden met een Tropical VrijMiBo
  op het terras van de Verwachting. Het terras gaan we voor deze avond geze
 llig omtoveren tot een heuse strandtent. Cocktails\, koud bier en vakantie
 muziek.\n\n\nVrij toegang\n
CATEGORIES:Horeca,Muziek
LOCATION:Tapperij De Verwachting\, Dorpsstraat 584\, Assendelft\, 1566 EK\,
  Nederland
X-APPLE-STRUCTURED-LOCATION;VALUE=URI;X-ADDRESS=Dorpsstraat 584\, Assendelf
 t\, 1566 EK\, Nederland;X-APPLE-RADIUS=100;X-TITLE=Tapperij De Verwachting
 :geo:0,0
END:VEVENT
BEGIN:VTIMEZONE
TZID:Europe/Amsterdam
X-LIC-LOCATION:Europe/Amsterdam
BEGIN:DAYLIGHT
DTSTART:20250330T030000
TZOFFSETFROM:+0100
TZOFFSETTO:+0200
TZNAME:CEST
END:DAYLIGHT
END:VTIMEZONE
END:VCALENDAR