BEGIN:VCALENDAR
VERSION:2.0
PRODID:-//wp-events-plugin.com//7.2.3.1//EN
TZID:Europe/Amsterdam
X-WR-TIMEZONE:Europe/Amsterdam
BEGIN:VEVENT
UID:37239@agenda-zaanstreek.nl
DTSTART;TZID=Europe/Amsterdam:20250227T180000
DTEND;TZID=Europe/Amsterdam:20250227T180000
DTSTAMP:20250206T100834Z
URL:https://agenda-zaanstreek.nl/events/trendwatcher-en-topspreker-richard
 -van-hooijdonk-bij-zaanse-ondernemers-societeit-de-corner/
SUMMARY:Trendwatcher en topspreker Richard van Hooijdonk bij Zaanse Ondern
 emers Sociëteit De Corner
DESCRIPTION:\nZaanse ondernemers krijgen op 27 februari de kans om live ken
 nis te maken met Richard van Hooijdonk\, de vooruitstrevende futurist\, ke
 ynote-spreker en scherpe waarnemer van opkomende trends. Hij is de gastspr
 eker bij de meeting van de Zaanse Ondernemers Sociëteit De Corner.\n\n\n\
 n\nOntmoet trendwatcher en internationaal topspreker Richard van Hooijdonk
  bij De Corner.&nbsp\;(Foto: aangeleverd)\n\n\nSinds 2014 spreekt Richard 
 voor veel prestigieuze instellingen en organisaties\, zoals Google\, Micro
 soft\, Interpol\, de Europese Commissie\, PWC\, Booking.com\, Unilever en 
 NIKE. Daarnaast is hij de CEO van Future Intelligence Agency Trendforce.on
 e.\n\nZijn inspiratiesessies zijn inmiddels door meer dan 600.000 mensen b
 ijgewoond en daarnaast is hij regelmatig te gast bij televisie- en radiopr
 ogramma’s. Bij De Corner neemt hij de ondernemers mee in zijn visie op d
 e mkb-trends en -ontwikkelingen in 2025.&nbsp\;\nProgramma\nHet programma 
 is als volgt. Inloop tussen 17.30 en 18.00 uur. Inspiratiesessie Richard v
 an Hooijdonk tussen 18.00 en 19.00 uur. Eten en borrelen van 19.00 tot 21.
 30 uur. Locatie is De Stoomhal\, Pakhuisplein 44 te Wormer. Gratis parkere
 n kan op het eigen terrein en in de directe omgeving. De toegang (inclusie
 f eten en drinken) is €45\,- p.p. voor leden van De Corner (maximaal twe
 e per lidmaatschap) en €75\,- p.p. voor niet-leden.\n\n
CATEGORIES:Commercieel
LOCATION:De Stoomhal\, Pakhuisplein 44\, Wormer\, 1531 MZ\, Wormer\, Nederl
 and
X-APPLE-STRUCTURED-LOCATION;VALUE=URI;X-ADDRESS=Pakhuisplein 44\, Wormer\, 
 1531 MZ\, Wormer\, Nederland;X-APPLE-RADIUS=100;X-TITLE=De Stoomhal:geo:0,
 0
END:VEVENT
BEGIN:VTIMEZONE
TZID:Europe/Amsterdam
X-LIC-LOCATION:Europe/Amsterdam
BEGIN:STANDARD
DTSTART:20241027T020000
TZOFFSETFROM:+0200
TZOFFSETTO:+0100
TZNAME:CET
END:STANDARD
END:VTIMEZONE
END:VCALENDAR