BEGIN:VCALENDAR
VERSION:2.0
PRODID:-//wp-events-plugin.com//7.2.3.1//EN
TZID:Europe/Amsterdam
X-WR-TIMEZONE:Europe/Amsterdam
BEGIN:VEVENT
UID:40168@agenda-zaanstreek.nl
DTSTART;TZID=Europe/Amsterdam:20250914T120000
DTEND;TZID=Europe/Amsterdam:20250914T133000
DTSTAMP:20250911T100358Z
URL:https://agenda-zaanstreek.nl/events/travocaal-gratis-proefles-voor-nie
 uwe-leerlingen/
SUMMARY:Travocaal Gratis proefles voor nieuwe leerlingen
DESCRIPTION:Travocaal!&nbsp\; &nbsp\; &nbsp\; &nbsp\; &nbsp\;Inloop vanaf 1
 1:30&nbsp\;Gratis proefles voor nieuwe leerlingen\n\nLaat jouw stem schitt
 eren met zangles en performance-training onder leiding van zangpedagoge Yv
 onne Mandigers! Wat begon als een les\, speciaal voor transgenders en trav
 estieten ter voorbereiding van hun optredens\, is inmiddels uitgegroeid to
 t een open plek voor iedereen uit de Regenboogcommunity - en voor iedereen
  met een warm hart voor deze community.\n\nOf je nu een beginnende zanger 
 bent of juist je performance naar een hoger niveau wilt tillen\, Travocaal
  biedt een inspirerende en inclusieve omgeving. Wil je meezingen en ontdek
 ken hoe het is om de spotlight te delen? Kom dan eens vrijblijvend binnen 
 voor een gratis proefles!\n\nDe lessen worden 1x per maand gehouden op zat
 erdag of zondag\, van 12:00 - 13:30 uur\, gevolgd door een gezellige karao
 ke middag.&nbsp\;
CATEGORIES:Cursus Workshop,Sociaal | LHBTQI-gemeenschap
LOCATION:Fluxus\, centrum voor de kunsten - locatie Verkade\, Westzijde 168
 \, Zaandam\, 1506 EK\, Nederland
X-APPLE-STRUCTURED-LOCATION;VALUE=URI;X-ADDRESS=Westzijde 168\, Zaandam\, 1
 506 EK\, Nederland;X-APPLE-RADIUS=100;X-TITLE=Fluxus\, centrum voor de kun
 sten - locatie Verkade:geo:0,0
END:VEVENT
BEGIN:VTIMEZONE
TZID:Europe/Amsterdam
X-LIC-LOCATION:Europe/Amsterdam
BEGIN:DAYLIGHT
DTSTART:20250330T030000
TZOFFSETFROM:+0100
TZOFFSETTO:+0200
TZNAME:CEST
END:DAYLIGHT
END:VTIMEZONE
END:VCALENDAR