BEGIN:VCALENDAR
VERSION:2.0
PRODID:-//wp-events-plugin.com//7.2.3.1//EN
TZID:Europe/Amsterdam
X-WR-TIMEZONE:Europe/Amsterdam
BEGIN:VEVENT
UID:37117@agenda-zaanstreek.nl
DTSTART;TZID=Europe/Amsterdam:20250208T210000
DTEND;TZID=Europe/Amsterdam:20250208T210000
DTSTAMP:20250130T135553Z
URL:https://agenda-zaanstreek.nl/events/trashwood-days-of-sway-rabauw/
SUMMARY:Trashwood\, Days Of Sway & Rabauw
DESCRIPTION:\n\n\n\n\n\n\n\n\n\n 	\n\nzaterdag\, feb 08\, 2025Open: 20:30Aa
 nvang: 21:00Prijs: Vvk €7\,50 deur €10\n\n\n\n\n\nHoly shit&nbsp\;\n\n
 we gaan er weer keihard tegenaan!\n\nDays of sway\n\ntrashwood\n\nen Rabau
 w! En rabauw released ook nog eens hun verse videoclip!\n\n\n\n\n\n\n
CATEGORIES:Muziek
LOCATION:De Groote Weiver\, Industrieweg 1a\, Wormerveer\, 1521 NA\, Wormer
 veer\, Nederland
X-APPLE-STRUCTURED-LOCATION;VALUE=URI;X-ADDRESS=Industrieweg 1a\, Wormervee
 r\, 1521 NA\, Wormerveer\, Nederland;X-APPLE-RADIUS=100;X-TITLE=De Groote 
 Weiver:geo:0,0
END:VEVENT
BEGIN:VTIMEZONE
TZID:Europe/Amsterdam
X-LIC-LOCATION:Europe/Amsterdam
BEGIN:STANDARD
DTSTART:20241027T020000
TZOFFSETFROM:+0200
TZOFFSETTO:+0100
TZNAME:CET
END:STANDARD
END:VTIMEZONE
END:VCALENDAR