BEGIN:VCALENDAR
VERSION:2.0
PRODID:-//wp-events-plugin.com//7.2.3.1//EN
TZID:Europe/Amsterdam
X-WR-TIMEZONE:Europe/Amsterdam
BEGIN:VEVENT
UID:36876@agenda-zaanstreek.nl
DTSTART;TZID=Europe/Amsterdam:20250207T201500
DTEND;TZID=Europe/Amsterdam:20250207T201500
DTSTAMP:20250118T143922Z
URL:https://agenda-zaanstreek.nl/events/toptalenten-op-viool-en-piano-in-k
 erkje-markenbinnen/
SUMMARY:Toptalenten op viool en piano in kerkje Markenbinnen
DESCRIPTION:\n\nVrijdagavond 7 februari a.s. zullen violist Daniils Čirič
 s uit Letland en pianiste Maria Parfonova uit Oekraïne hun project ‘Fat
 e and DeLight’ presenteren en uitvoeren. Een bijzonder concert in een wa
 rm en sfeervol kerkje! Zij studeren beiden aan het Conservatorium van Amst
 erdam.\n\nDit concert met werken van Beethoven\, Mozart\, Bartók\, Elgar 
 en Brahms gaat in het bijzonder om de realiteit in de tijd van deze grote 
 componisten en hun gemoedstoestand te ervaren. ‘Fate and DeLight’\, of
 tewel (nood)lot en vreugde. &nbsp\;Een muzikale reis door emoties\, confli
 cten en angsten. Čiričs en Parfonova toeren met dit programma al succesv
 ol door Nederland.\n\nDe toegang is gratis\, maar bezoekers worden uitgeno
 digd om een vrijwillige bijdrage te doen ter ondersteuning van het concert
  en de instandhouding van het kerkje. Het concert begint om 20.15 uur\, de
  kerk opent om 19.45 uur. Reserveren kan door een e-mail te sturen naar: s
 ecretariaat@kerkjemarkenbinnen.nl\n\n&nbsp\;
CATEGORIES:Klassiek,Muziek
LOCATION:Kerkje van Markenbinnen\, Dorpsstraat 43\, Markenbinnen\, 1536 AE\
 , Nederland
X-APPLE-STRUCTURED-LOCATION;VALUE=URI;X-ADDRESS=Dorpsstraat 43\, Markenbinn
 en\, 1536 AE\, Nederland;X-APPLE-RADIUS=100;X-TITLE=Kerkje van Markenbinne
 n:geo:0,0
END:VEVENT
BEGIN:VTIMEZONE
TZID:Europe/Amsterdam
X-LIC-LOCATION:Europe/Amsterdam
BEGIN:STANDARD
DTSTART:20241027T020000
TZOFFSETFROM:+0200
TZOFFSETTO:+0100
TZNAME:CET
END:STANDARD
END:VTIMEZONE
END:VCALENDAR