BEGIN:VCALENDAR
VERSION:2.0
PRODID:-//wp-events-plugin.com//7.2.3.1//EN
TZID:Europe/Amsterdam
X-WR-TIMEZONE:Europe/Amsterdam
BEGIN:VEVENT
UID:39169@agenda-zaanstreek.nl
DTSTART;TZID=Europe/Amsterdam:20251107T200000
DTEND;TZID=Europe/Amsterdam:20251108T200000
DTSTAMP:20250612T191332Z
URL:https://agenda-zaanstreek.nl/events/toneelvereniging-herleving-speelt-
 alle-hens-aan-dek-van-anneke-den-hartog-2/
SUMMARY:Toneelvereniging Herleving speelt Alle Hens aan Dek van Anneke Den 
 Hartog
DESCRIPTION:\n\n1-7-8 November speelt Toneelvereniging Herleving in het Dor
 pshuis De Kwaker in Westzaan\n\n\n&nbsp\;\n\n\nKaarten kunt u bestellen bi
 j Gerda.steenbergen@planet.nl 06 12805499\n\n\n&nbsp\;\n\n\nDe spelers sta
 an te popelen om u weer te ontmoeten\n\n\n&nbsp\;\n\n\nNaafloop gezellig n
 a praten met een glaasje of iets anders\n\n\n&nbsp\;\n\n\nEn natuurlijk me
 t de beroemde bitterballen van Marianne Kaatee Lassooij\n\n\n&nbsp\;\n\n\n
 Vaart u met ons mee 1-7-of 8 nov\n
CATEGORIES:Toneel
LOCATION:Dorpshuis De Kwaker\, J.J. Allanstraat 127\, Westzaan\, 1551 RC\, 
 Nederland
X-APPLE-STRUCTURED-LOCATION;VALUE=URI;X-ADDRESS=J.J. Allanstraat 127\, West
 zaan\, 1551 RC\, Nederland;X-APPLE-RADIUS=100;X-TITLE=Dorpshuis De Kwaker:
 geo:0,0
END:VEVENT
BEGIN:VTIMEZONE
TZID:Europe/Amsterdam
X-LIC-LOCATION:Europe/Amsterdam
BEGIN:STANDARD
DTSTART:20251026T020000
TZOFFSETFROM:+0200
TZOFFSETTO:+0100
TZNAME:CET
END:STANDARD
END:VTIMEZONE
END:VCALENDAR