BEGIN:VCALENDAR
VERSION:2.0
PRODID:-//wp-events-plugin.com//7.2.3.1//EN
TZID:Europe/Amsterdam
X-WR-TIMEZONE:Europe/Amsterdam
BEGIN:VEVENT
UID:40911@agenda-zaanstreek.nl
DTSTART;TZID=Europe/Amsterdam:20251221T160000
DTEND;TZID=Europe/Amsterdam:20251221T190000
DTSTAMP:20251218T103344Z
URL:https://agenda-zaanstreek.nl/events/tomahawk-shanaaz/
SUMMARY:Tomahawk & Shanaaz
DESCRIPTION:\n\n\n\n\n\n\n\n\n\n 	\n\nzondag\, dec 21\, 2025Open: 15:00Aanv
 ang: 16:00Prijs: Gratis entree\n\n\n\n\n\nVorig jaar kon het wegens omstan
 digheden niet doorgaan dus we gaan het nu gewoon even inhalen.&nbsp\;\nTom
 ahawk kent iedere Zaankanter wel en ze zullen een lekker potje rock neer g
 aan zetten&nbsp\;\n\nShanaaz\nToronto born recording artist Shanaaz\, crea
 tes smooth R&amp\;B music infused with aspects of trap. Shanaaz is activel
 y working on the writing and recording of her debut album.\n“My music is
  my mind\, body and soul\,” says Shanaaz. “I’m planning to incorpora
 te poetry\, storytelling and visuals to create something fresh and more mu
 sically creative than my previous releases.”\n\n\n\n\n\n\n
CATEGORIES:Muziek
LOCATION:De Groote Weiver\, Industrieweg 1a\, Wormerveer\, 1521 NA\, Wormer
 veer\, Nederland
X-APPLE-STRUCTURED-LOCATION;VALUE=URI;X-ADDRESS=Industrieweg 1a\, Wormervee
 r\, 1521 NA\, Wormerveer\, Nederland;X-APPLE-RADIUS=100;X-TITLE=De Groote 
 Weiver:geo:0,0
END:VEVENT
BEGIN:VTIMEZONE
TZID:Europe/Amsterdam
X-LIC-LOCATION:Europe/Amsterdam
BEGIN:STANDARD
DTSTART:20251026T020000
TZOFFSETFROM:+0200
TZOFFSETTO:+0100
TZNAME:CET
END:STANDARD
END:VTIMEZONE
END:VCALENDAR