BEGIN:VCALENDAR
VERSION:2.0
PRODID:-//wp-events-plugin.com//7.2.3.1//EN
TZID:Europe/Amsterdam
X-WR-TIMEZONE:Europe/Amsterdam
BEGIN:VEVENT
UID:36495@agenda-zaanstreek.nl
DTSTART;TZID=Europe/Amsterdam:20250227T200000
DTEND;TZID=Europe/Amsterdam:20250228T200000
DTSTAMP:20241219T104134Z
URL:https://agenda-zaanstreek.nl/events/tobi-kooiman-best-of-2/
SUMMARY:Tobi Kooiman Best of 2
DESCRIPTION:\n\n\nTobi Kooiman is cabaretier en wiskundige. Met zijn gevoel
  voor logica tackelt hij levensvraagstukken en alledaagse kwesties en neem
 t op de koop toe dat het publiek ongegeneerd door zijn verhalen heen lacht
 . Bij cabaretfestival Cameretten won hij de publieksprijs\, en zijn eerste
  avondvullende programma kreeg meteen vijf sterren van cabaret.nl\, dat sp
 rak van “een verfrissende wind” en “hits in overvloed”.\n\n\n\n\n\
 n\nDe titel van die debuutvoorstelling was&nbsp\;Best Of\, omdat alleen je
  eerste voorstelling sowieso de beste tot nu toe is. Nu komt Tobi met het 
 vervolg:&nbsp\;Best Of 2. Een nieuwe show vol beeldende verhalen\, slimme 
 redenaties en rake grappen\, waarin hij probeert zijn imago op te krikken.
  Want\, aldus Tobi: “De reactie die ik na&nbsp\;Best Of&nbsp\;het vaakst
  kreeg kwam van bejaarde vrouwen die dan zeiden: “Ik vond het heel herke
 nbaar. Mijn kleinzoon is ook autistisch.””\n\n\nLees meer\n\n\n\n\nPri
 jzen\n\n\n\n\n\nRecensies\n\n\n\n\nExtra informatie:\n\n\n\n\n\ndo27 feb 2
 02520.30Kleine ZaalLaatste kans\nvr28 feb 202520.30Kleine ZaalUitverkocht\
 n\n
CATEGORIES:Cabaret
LOCATION:Zaantheater\, Nicolaasstraat 3\, Zaandam\, 1506 BB\, Nederland
X-APPLE-STRUCTURED-LOCATION;VALUE=URI;X-ADDRESS=Nicolaasstraat 3\, Zaandam\
 , 1506 BB\, Nederland;X-APPLE-RADIUS=100;X-TITLE=Zaantheater:geo:0,0
END:VEVENT
BEGIN:VTIMEZONE
TZID:Europe/Amsterdam
X-LIC-LOCATION:Europe/Amsterdam
BEGIN:STANDARD
DTSTART:20241027T020000
TZOFFSETFROM:+0200
TZOFFSETTO:+0100
TZNAME:CET
END:STANDARD
END:VTIMEZONE
END:VCALENDAR