BEGIN:VCALENDAR
VERSION:2.0
PRODID:-//wp-events-plugin.com//7.2.3.1//EN
TZID:Europe/Amsterdam
X-WR-TIMEZONE:Europe/Amsterdam
BEGIN:VEVENT
UID:36220@agenda-zaanstreek.nl
DTSTART;TZID=Europe/Amsterdam:20250205T200000
DTEND;TZID=Europe/Amsterdam:20250205T200000
DTSTAMP:20241205T110600Z
URL:https://agenda-zaanstreek.nl/events/tineke-schouten-de-schouten-schoen
 en-aan/
SUMMARY:Tineke Schouten - De Schouten schoenen aan
DESCRIPTION:\n&nbsp\;\n\n\n\n\nTineke Schouten trekt de stoute schoenen aan
 ! Ze gooit haar show over een andere boeg. Ze verstopt zich niet alleen ac
 hter een kostuum\, nee: je ziet meer van Tineke zelf en de dingen die haar
  bezighouden. Ze heeft roerige tijden achter de rug\, de wereld staat op z
 ijn kop. Natuurlijk relativeert Tineke\, samen met het publiek\, de boel e
 n valt er veel te lachen om onze eigen tekortkomingen. Gelardeerd met de m
 ooiste liedjes\, begeleid door eersteklas muzikanten. Tineke op haar best!
 &nbsp\;\n\n\n
CATEGORIES:Cabaret,Theater
LOCATION:Zaantheater\, Nicolaasstraat 3\, Zaandam\, 1506 BB\, Nederland
X-APPLE-STRUCTURED-LOCATION;VALUE=URI;X-ADDRESS=Nicolaasstraat 3\, Zaandam\
 , 1506 BB\, Nederland;X-APPLE-RADIUS=100;X-TITLE=Zaantheater:geo:0,0
END:VEVENT
BEGIN:VTIMEZONE
TZID:Europe/Amsterdam
X-LIC-LOCATION:Europe/Amsterdam
BEGIN:STANDARD
DTSTART:20241027T020000
TZOFFSETFROM:+0200
TZOFFSETTO:+0100
TZNAME:CET
END:STANDARD
END:VTIMEZONE
END:VCALENDAR