BEGIN:VCALENDAR
VERSION:2.0
PRODID:-//wp-events-plugin.com//7.2.3.1//EN
TZID:Europe/Amsterdam
X-WR-TIMEZONE:Europe/Amsterdam
BEGIN:VEVENT
UID:40600@agenda-zaanstreek.nl
DTSTART;TZID=Europe/Amsterdam:20251112T200000
DTEND;TZID=Europe/Amsterdam:20251112T200000
DTSTAMP:20251106T111448Z
URL:https://agenda-zaanstreek.nl/events/tim-fransen-onbekommerd/
SUMMARY:Tim Fransen  - Onbekommerd
DESCRIPTION:\n\nTim Fransen heeft inmiddels drie filosofische cabaretvoorst
 ellingen gemaakt. De laatste twee wonnen zelfs de hoogste prijs in de cate
 gorie ‘maatschappelijk engagement’. Maar is de wereld er sindsdien nou
  heel veel beter op geworden? Heeft al dat hoogdravende filosofische cabar
 et zoden aan de dijk gezet? Tim Fransen heeft de balans opgemaakt\, zijn c
 onclusies getrokken en besloten het over een andere boeg te gooien. In dez
 e tijden van crisis en ellende hebben mensen recht op een zorgeloze avond.
  Lekker lachen\, heerlijk lichtvoetig vermaak\, entertainment met een grot
 e E. Want vanavond is onbekommerd. Althans\, Tim gaat zijn best doen…\n\
 n
CATEGORIES:Cabaret
LOCATION:Zaantheater\, Nicolaasstraat 3\, Zaandam\, 1506 BB\, Nederland
X-APPLE-STRUCTURED-LOCATION;VALUE=URI;X-ADDRESS=Nicolaasstraat 3\, Zaandam\
 , 1506 BB\, Nederland;X-APPLE-RADIUS=100;X-TITLE=Zaantheater:geo:0,0
END:VEVENT
BEGIN:VTIMEZONE
TZID:Europe/Amsterdam
X-LIC-LOCATION:Europe/Amsterdam
BEGIN:STANDARD
DTSTART:20251026T020000
TZOFFSETFROM:+0200
TZOFFSETTO:+0100
TZNAME:CET
END:STANDARD
END:VTIMEZONE
END:VCALENDAR