BEGIN:VCALENDAR
VERSION:2.0
PRODID:-//wp-events-plugin.com//7.2.3.1//EN
TZID:Europe/Amsterdam
X-WR-TIMEZONE:Europe/Amsterdam
BEGIN:VEVENT
UID:35682@agenda-zaanstreek.nl
DTSTART;TZID=Europe/Amsterdam;VALUE=DATE:20241109
DTEND;TZID=Europe/Amsterdam;VALUE=DATE:20250228
DTSTAMP:20241122T153455Z
URL:https://agenda-zaanstreek.nl/events/tien-jaar-popmuziek-in-beeld-de-fl
 ux-viert-jubileum-met-expositie-bij-fluxus-verkade/
SUMMARY:Tien Jaar Popmuziek in Beeld – DE FLUX viert Jubileum met Exposit
 ie bij FluXus Verkade
DESCRIPTION:Expositie 10 jaar popmuziek in beeld\n\nNeem een kijkje bij de 
 expositie ’10 jaar popmuziek in beeld’ met foto’s van het vrijwillig
 ersteam fotografen van Podium DE FLUX. In de gangen van het FluXus gebouw 
 zijn diverse foto’s te bewonderen. Iedereen is van harte welkom om langs
  te komen! Podium DE FLUX bestaat 10 jaar! DE FLUX kijkt terug op tien moo
 ie en bewogen jaren popmuziek in Zaanstad\, welke zijn vastgelegd door het
  vrijwilligersteam fotografen van DE FLUX. Deze expositie blikt terug op b
 ijzondere shows: van de tijd dat het podium nog aan de Zuiderkerkstraat in
  Zaandam gevestigd was\, tot aan de Hemkade (huidige locatie). Van lokaal 
 tot (inter)nationaal\, alles komt voorbij. Voor een interactieve beleving\
 , vind je bij iedere foto een QR code.\n\nLocatie:&nbsp\;Fluxus locatie Ve
 rkadefabriek\, Westzijde 168\, Zaandam\n\nDatum: t/m 27 februari te bezoek
 en tijdens de openingstijden van FluXus (tijdens de kerstvakantie gesloten
 )\n\nEntree: Gratis\n\nhttps://www.fluxus.nl/agenda/expositie-10-jaar-popf
 otografie-in-beeld/
CATEGORIES:Expositie
LOCATION:Fluxus\, centrum voor de kunsten - locatie Verkade\, Westzijde 168
 \, Zaandam\, 1506 EK\, Nederland
X-APPLE-STRUCTURED-LOCATION;VALUE=URI;X-ADDRESS=Westzijde 168\, Zaandam\, 1
 506 EK\, Nederland;X-APPLE-RADIUS=100;X-TITLE=Fluxus\, centrum voor de kun
 sten - locatie Verkade:geo:0,0
END:VEVENT
BEGIN:VTIMEZONE
TZID:Europe/Amsterdam
X-LIC-LOCATION:Europe/Amsterdam
BEGIN:STANDARD
DTSTART:20241027T020000
TZOFFSETFROM:+0200
TZOFFSETTO:+0100
TZNAME:CET
END:STANDARD
END:VTIMEZONE
END:VCALENDAR