BEGIN:VCALENDAR
VERSION:2.0
PRODID:-//wp-events-plugin.com//7.2.3.1//EN
TZID:Europe/Amsterdam
X-WR-TIMEZONE:Europe/Amsterdam
BEGIN:VEVENT
UID:35583@agenda-zaanstreek.nl
DTSTART;TZID=Europe/Amsterdam:20250412T201500
DTEND;TZID=Europe/Amsterdam:20250412T201500
DTSTAMP:20241031T133927Z
URL:https://agenda-zaanstreek.nl/events/thjum-arts-try-out-hoe-heeft-het-z
 over-kunnen-komen/
SUMMARY:Thjum Arts (try-out) - Hoe heeft het zover kunnen komen?
DESCRIPTION:Authentiek\, droog\, een hilarische mimiek en de nodige diepgan
 g. In zijn tweede programma blijft Thjum (winnaar jury-en publieksprijs Ca
 meretten 2021) Thjum. Hij maakt de balans op. Op zijn unieke manier. Want 
 er is nogal wat gaande op dit moment. Die situaties allemaal. Het is wat m
 et die situaties. Soms vraag je je af: hoe heeft het zover kunnen komen? T
 hjum heeft dat vaak. Daarom is het de titel van zijn nieuwe (tweede) voors
 telling geworden.\n\n\nThjum won in 2021 zowel de jury- als de publiekspri
 js bij het prestigieuze Cameretten Festival en speelde daarna in maar lief
 st 120 theaters zijn eerste programma. Ook was hij op NPO 1 te horen als c
 olumnist bij ‘Met het oog op morgen’. Nu is hij klaar om zijn tweede v
 oorstelling aan u te laten zien ‘Hoe heeft het zover kunnen komen?’\n\
 n 	Datum:&nbsp\; 12 april 2025\n 	Aanvang: 20.15 uur\n 	Ticketprijs: € 1
 8\,50\n 	Inclusief consumptie\n 	Cabaret\n\n\nTickets bestellen
CATEGORIES:Cabaret
LOCATION:Theater de Kaasfabriek\, Dorpsstraat 206\, Wormer\, 1531 HS\, Worm
 er\, Nederland
X-APPLE-STRUCTURED-LOCATION;VALUE=URI;X-ADDRESS=Dorpsstraat 206\, Wormer\, 
 1531 HS\, Wormer\, Nederland;X-APPLE-RADIUS=100;X-TITLE=Theater de Kaasfab
 riek:geo:0,0
END:VEVENT
BEGIN:VTIMEZONE
TZID:Europe/Amsterdam
X-LIC-LOCATION:Europe/Amsterdam
BEGIN:DAYLIGHT
DTSTART:20250330T030000
TZOFFSETFROM:+0100
TZOFFSETTO:+0200
TZNAME:CEST
END:DAYLIGHT
END:VTIMEZONE
END:VCALENDAR