BEGIN:VCALENDAR
VERSION:2.0
PRODID:-//wp-events-plugin.com//7.2.3.1//EN
TZID:Europe/Amsterdam
X-WR-TIMEZONE:Europe/Amsterdam
BEGIN:VEVENT
UID:38203@agenda-zaanstreek.nl
DTSTART;TZID=Europe/Amsterdam:20250419T203000
DTEND;TZID=Europe/Amsterdam:20250419T203000
DTSTAMP:20250410T100158Z
URL:https://agenda-zaanstreek.nl/events/thijs-van-de-meeberg-met-de-beste-
 bedoelingen/
SUMMARY:Thijs van de Meeberg - Met de beste bedoelingen
DESCRIPTION:Met de beste bedoelingen gaat Thijs er met een gestrekt been ke
 ihard in\, op zoek naar het antwoord op de vraag: hoe bewaak ik de vrede?\
 n\nIn blinde paniek en met een slecht voorgevoel\, maar met een nog dieper
  verlangen naar een samen gaat Thijs aan de slag! Stevig\, lomp en als een
  ongeleid projectiel. Woede is het enige wat we nog gemeen hebben. Thijs n
 odigt je uit om samen met hem die woede iets meer te koesteren. Uiteraard 
 met de beste bedoelingen.&nbsp\;\n\nMet de beste bedoelingen is de vierde 
 solovoorstelling van Thijs van de Meeberg. Hij wordt geroemd om zijn slimm
 e verhaalstructuur en grote improvisatietalent. Een sympathieke\, oprechte
  en vurige cabaretier die zijn publiek de hele avond blijft verrassen.&nbs
 p\;\n\nDisclaimer: lijkt de ideale schoonzoon\, maar is een losgeslagen id
 ioot.\n\nVan de Meeberg is een vakman: hij ging bij de Slimste Mens roemlo
 os kopje onder\, maar maakte Maarten van Rossem hard aan het lachen. Dat i
 s knapper dan winnen.\n\nRegie: Titus Tiel Groenestege\n\nTechniek: Marco 
 Koppers\n\nOntwerp: Anne Neuteboom\n\nBestel uw kaarten hier &gt\;
CATEGORIES:Cabaret
LOCATION:Dorpshuis Oostknollendam\, Dorpsstraat 95\, Oostknollendam\, 1534 
 NE\, Wormer\, Nederland
X-APPLE-STRUCTURED-LOCATION;VALUE=URI;X-ADDRESS=Dorpsstraat 95\, Oostknolle
 ndam\, 1534 NE\, Wormer\, Nederland;X-APPLE-RADIUS=100;X-TITLE=Dorpshuis O
 ostknollendam:geo:0,0
END:VEVENT
BEGIN:VTIMEZONE
TZID:Europe/Amsterdam
X-LIC-LOCATION:Europe/Amsterdam
BEGIN:DAYLIGHT
DTSTART:20250330T030000
TZOFFSETFROM:+0100
TZOFFSETTO:+0200
TZNAME:CEST
END:DAYLIGHT
END:VTIMEZONE
END:VCALENDAR