BEGIN:VCALENDAR
VERSION:2.0
PRODID:-//wp-events-plugin.com//7.2.3.1//EN
TZID:Europe/Amsterdam
X-WR-TIMEZONE:Europe/Amsterdam
BEGIN:VEVENT
UID:35684@agenda-zaanstreek.nl
DTSTART;TZID=Europe/Amsterdam:20241128T163000
DTEND;TZID=Europe/Amsterdam:20241128T180000
DTSTAMP:20241106T113200Z
URL:https://agenda-zaanstreek.nl/events/themabijeenkomst-mantelzorgers-par
 ticipatie-en-open-deuren-beleid/
SUMMARY:Themabijeenkomst Mantelzorgers - Participatie en open deuren beleid
DESCRIPTION:
CATEGORIES:Sociaal
LOCATION:Zorgcentrum Mennistenerf\, H. Gerhardstraat 77\, Zaandam\, 1502 CC
 \, Nederland
X-APPLE-STRUCTURED-LOCATION;VALUE=URI;X-ADDRESS=H. Gerhardstraat 77\, Zaand
 am\, 1502 CC\, Nederland;X-APPLE-RADIUS=100;X-TITLE=Zorgcentrum Mennistene
 rf:geo:0,0
END:VEVENT
BEGIN:VTIMEZONE
TZID:Europe/Amsterdam
X-LIC-LOCATION:Europe/Amsterdam
BEGIN:STANDARD
DTSTART:20241027T020000
TZOFFSETFROM:+0200
TZOFFSETTO:+0100
TZNAME:CET
END:STANDARD
END:VTIMEZONE
END:VCALENDAR