BEGIN:VCALENDAR
VERSION:2.0
PRODID:-//wp-events-plugin.com//7.2.3.1//EN
TZID:Europe/Amsterdam
X-WR-TIMEZONE:Europe/Amsterdam
BEGIN:VEVENT
UID:40586@agenda-zaanstreek.nl
DTSTART;TZID=Europe/Amsterdam:20251111T200000
DTEND;TZID=Europe/Amsterdam:20251111T200000
DTSTAMP:20251106T103933Z
URL:https://agenda-zaanstreek.nl/events/theatercollege-klassiek-in-pop/
SUMMARY:Theatercollege Klassiek in pop
DESCRIPTION:Gitarist\, muziekkenner en schrijver Aldo Druyf geeft dinsdag 1
 1 november voor de Vrouwen van Nu\, afdeling Zaanstreek\, een theatercolle
 ge\nKlassiek in pop.\nOntdek hoe klassieke muziek doorklinkt in popsongs. 
 Locatie is Buurtcentrum\nA3\, Dorpsstraat 386. Aanvang 20.00 uur. Entree n
 iet leden € 5\,-
CATEGORIES:Theatercolleges &amp; Salons
LOCATION:Buurtcentrum A3\, Dorpsstraat 386\, Assendelft\, 1566 BR\, Assende
 lft\, Nederland
X-APPLE-STRUCTURED-LOCATION;VALUE=URI;X-ADDRESS=Dorpsstraat 386\, Assendelf
 t\, 1566 BR\, Assendelft\, Nederland;X-APPLE-RADIUS=100;X-TITLE=Buurtcentr
 um A3:geo:0,0
END:VEVENT
BEGIN:VTIMEZONE
TZID:Europe/Amsterdam
X-LIC-LOCATION:Europe/Amsterdam
BEGIN:STANDARD
DTSTART:20251026T020000
TZOFFSETFROM:+0200
TZOFFSETTO:+0100
TZNAME:CET
END:STANDARD
END:VTIMEZONE
END:VCALENDAR