BEGIN:VCALENDAR
VERSION:2.0
PRODID:-//wp-events-plugin.com//7.2.3.1//EN
TZID:Europe/Amsterdam
X-WR-TIMEZONE:Europe/Amsterdam
BEGIN:VEVENT
UID:40521@agenda-zaanstreek.nl
DTSTART;TZID=Europe/Amsterdam:20251108T130000
DTEND;TZID=Europe/Amsterdam:20251109T130000
DTSTAMP:20251030T090816Z
URL:https://agenda-zaanstreek.nl/events/theater-voorstelling-voor-tieners-
 en-jongvolwassenen-adem-uit-in-molen-de-bleeke-dood/
SUMMARY:Theater voorstelling voor tieners en jongvolwassenen: “Adem uit
 ” in molen De Bleeke Dood
DESCRIPTION:Door theatermaker: Yara Hackmann\n\nOp zaterdag 8 en zondag 9 n
 ovember kun je genieten van een unieke theatervoorstelling voor tieners en
  jongvolwassenen. In dit coming-of-age verhaal nemen de acteurs je mee doo
 r de verschillende lagen van de molen – en van het leven zelf.\n\nVoorst
 ellingen per dag:\n\n 	13:00 uur\n 	14:30 uur\n 	16:00 uur\n\nToegang: Bet
 aal achteraf naar waardering.\n\nLet op: aanmelden is verplicht via [dit f
 ormulier]. Er is een beperkt aantal plekken\, dus VOL = VOL.
CATEGORIES:Theater
LOCATION:Korenmolen "De Bleeke Dood"\, Lagedijk 28\, Zaandijk\, 1544 BG\, N
 ederland
X-APPLE-STRUCTURED-LOCATION;VALUE=URI;X-ADDRESS=Lagedijk 28\, Zaandijk\, 15
 44 BG\, Nederland;X-APPLE-RADIUS=100;X-TITLE=Korenmolen \"De Bleeke Dood\"
 :geo:0,0
END:VEVENT
BEGIN:VTIMEZONE
TZID:Europe/Amsterdam
X-LIC-LOCATION:Europe/Amsterdam
BEGIN:STANDARD
DTSTART:20251026T020000
TZOFFSETFROM:+0200
TZOFFSETTO:+0100
TZNAME:CET
END:STANDARD
END:VTIMEZONE
END:VCALENDAR