BEGIN:VCALENDAR
VERSION:2.0
PRODID:-//wp-events-plugin.com//7.2.3.1//EN
TZID:Europe/Amsterdam
X-WR-TIMEZONE:Europe/Amsterdam
BEGIN:VEVENT
UID:36348@agenda-zaanstreek.nl
DTSTART;TZID=Europe/Amsterdam:20250219T133000
DTEND;TZID=Europe/Amsterdam:20250219T160000
DTSTAMP:20241212T103549Z
URL:https://agenda-zaanstreek.nl/events/theater-terra-belle-en-het-beest-4
 -2x/
SUMMARY:Theater Terra - Belle en het Beest (4+) (2x)
DESCRIPTION:&nbsp\;\nLaat je betoveren door een sprookje dat zo oud is als 
 de liefde zelf! Wanneer de vader van een hecht gezin op reis moet om het g
 eluk van de familie veilig te stellen\, komt hij terecht in een kasteel. I
 n de tuinen plukt hij een roos voor zijn dochter Belle. Dan verschijnt zij
 n gastheer: een Beest\, dat wil dat Belle naar zijn kasteel komt. Ziet Bel
 le op tijd in dat het Beest eigenlijk een prins is\, die alleen door ware 
 liefde gered kan worden?\n\n\n\n\nTheater Terra presenteert de nieuwe fant
 asierijke familiemusical&nbsp\;Belle en het Beest\, voor iedereen vanaf 4 
 jaar. Bewerkt in de kenmerkende artistieke signatuur van Theater Terra: me
 t poppenspel\, inventieve decors en nieuwe muziek.&nbsp\;Belle en het Bees
 t&nbsp\;werd in de 18e eeuw geschreven en is sinds die tijd een van de mee
 st gelezen sprookjes en de basis voor vele boeken\, films en theatervoorst
 ellingen.\n\n\n\n
CATEGORIES:Jeugd en Familie,Musical
LOCATION:Zaantheater\, Nicolaasstraat 3\, Zaandam\, 1506 BB\, Nederland
X-APPLE-STRUCTURED-LOCATION;VALUE=URI;X-ADDRESS=Nicolaasstraat 3\, Zaandam\
 , 1506 BB\, Nederland;X-APPLE-RADIUS=100;X-TITLE=Zaantheater:geo:0,0
END:VEVENT
BEGIN:VTIMEZONE
TZID:Europe/Amsterdam
X-LIC-LOCATION:Europe/Amsterdam
BEGIN:STANDARD
DTSTART:20241027T020000
TZOFFSETFROM:+0200
TZOFFSETTO:+0100
TZNAME:CET
END:STANDARD
END:VTIMEZONE
END:VCALENDAR