BEGIN:VCALENDAR
VERSION:2.0
PRODID:-//wp-events-plugin.com//7.2.3.1//EN
TZID:Europe/Amsterdam
X-WR-TIMEZONE:Europe/Amsterdam
BEGIN:VEVENT
UID:40594@agenda-zaanstreek.nl
DTSTART;TZID=Europe/Amsterdam:20251107T200000
DTEND;TZID=Europe/Amsterdam:20251107T200000
DTSTAMP:20251106T110345Z
URL:https://agenda-zaanstreek.nl/events/theater-oostpool-millennial-1-vred
 e/
SUMMARY:Theater Oostpool - Millennial 1: Vrede
DESCRIPTION:\n\n\n\n\n&nbsp\;\n\n\n\n\n\n\n\n\n\n\nDe makers van theaterhit
  Showmeister&nbsp\;zijn terug met een comedy over millennials: een generat
 ie die opgroeide met de belofte dat er nooit meer oorlog zou komen.\n\n\n\
 n\n\n\nTerwijl in Nederland de defensiebegroting van 2% naar 5% wordt verh
 oogd en de dienstplicht ingevoerd wordt\, zit Wesley op Ibiza melodieuze t
 echno te maken in zijn zen villa. Voor de grap schrijft hij een pacifistis
 ch protestlied – maar dat gaat onbedoeld viral – en hij wordt gebombar
 deerd tot the voice of a generation.\n\nNiet gehinderd door enige kennis v
 an zaken schuift hij aan bij alle Jineks en Jorts om te praten over de com
 plexe brandhaarden van deze tijd. Maar zijn harde uitspraken en social med
 ia activisme blijken niet zonder consequenties: zijn vrienden en familie b
 eginnen een enorme rothekel te krijgen aan deze nieuwe Wesley.\n\nTerwijl 
 de wereld richting WOIII beweegt\, moet Wesley balanceren tussen zijn nieu
 wgevonden idealen\, zijn relaties en de steeds dwingendere realiteit van e
 en wereld in crisis.\n\nMILLENNIAL I\nVREDE&nbsp\;is een vlijmscherpe come
 dy over een club vrienden die elkaar probeert vast te houden aan de rand v
 an de afgrond.\n\nHulst &amp\; Tarenskeen\nHulst &amp\; Tarenskeen maakten
  in seizoen 2023-2024 het uiterst succesvolle Showmeister dat een sterrenr
 egen in de pers ontving waarna een uitverkochte tournee\, een plek in de j
 uryselectie van het Nederlands Theaterfestival en een vanzelfsprekende ext
 ra tour volgden. Vrede is het eerste deel in de millennialreeks die Hulst 
 &amp\; Tarenskeen de komende jaren bij Theater Oostpool zullen maken. Inmi
 ddels hebben zij een traditie opgebouwd van voorstellingen waarin het duo 
 zowel zichzelf als hun generatiegenoten even meedogenloos als grappig ontm
 askeren.\n\n\nLees m\n\n\n\n
CATEGORIES:Theater,Toneel
LOCATION:Zaantheater\, Nicolaasstraat 3\, Zaandam\, 1506 BB\, Nederland
X-APPLE-STRUCTURED-LOCATION;VALUE=URI;X-ADDRESS=Nicolaasstraat 3\, Zaandam\
 , 1506 BB\, Nederland;X-APPLE-RADIUS=100;X-TITLE=Zaantheater:geo:0,0
END:VEVENT
BEGIN:VTIMEZONE
TZID:Europe/Amsterdam
X-LIC-LOCATION:Europe/Amsterdam
BEGIN:STANDARD
DTSTART:20251026T020000
TZOFFSETFROM:+0200
TZOFFSETTO:+0100
TZNAME:CET
END:STANDARD
END:VTIMEZONE
END:VCALENDAR