BEGIN:VCALENDAR
VERSION:2.0
PRODID:-//wp-events-plugin.com//7.2.3.1//EN
TZID:Europe/Amsterdam
X-WR-TIMEZONE:Europe/Amsterdam
BEGIN:VEVENT
UID:37216@agenda-zaanstreek.nl
DTSTART;TZID=Europe/Amsterdam:20250504T210000
DTEND;TZID=Europe/Amsterdam:20250504T210000
DTSTAMP:20250205T112007Z
URL:https://agenda-zaanstreek.nl/events/theater-na-de-dam-bevroren-tranen-
 maarten-peters/
SUMMARY:Theater na de Dam - Bevroren Tranen - Maarten Peters
DESCRIPTION:Tijdens Nationale Dodenherdenking zetten theatermakers en artie
 sten in heel Nederland zich in om deze dag van extra betekenis te voorzien
 . Elk jaar zijn er gelijktijdig meer dan honderddertig voorstellingen die 
 ieder op hun eigen manier betrekking hebben op de Tweede Wereldoorlog. Dit
  jaar stelt Maarten Peters op verzoek van het Zaantheater een herdenkingsp
 rogramma samen waarin hij op zijn persoonlijke\, eigentijdse manier vorm g
 eeft aan verhalen over oorlog\, hoop en vrede.\n\n\n\n\nOok vertelt Peters
  in deze voorstelling over zijn ontmoetingen met geweldige mensen en gebeu
 rtenissen\, die hem inspireerden tot het schrijven en samenstellen van een
  bijzonder repertoire. Deze liederen\, verzameld onder de naam “Bevroren
  tranen”\, bestrijken zeer diverse facetten van deze donkere periode. Hi
 j kijkt niet alleen terug\, maar ook vooruit\, naar de huidige tijdgeest e
 n de vraagstukken waarmee we worden geconfronteerd.\n\nOver Maarten Peters
 \nZanger\, componist en Zaankanter Maarten Peters is niet alleen een begen
 adigd componist maar ook een zeer betrokken mens. Hij schreef prachtige li
 edjes voor artiesten als Rob de Nijs\, Liesbeth List en uiteraard Margriet
  Eshuijs. Ook zingt hij regelmatig bij grote herdenkingsconcerten zoals de
  Holocaust herdenking in Amsterdam en de 4 mei Herdenking op Kamp Westerbo
 rk.\n\n\n\n
CATEGORIES:Muziek
LOCATION:Zaantheater\, Nicolaasstraat 3\, Zaandam\, 1506 BB\, Nederland
X-APPLE-STRUCTURED-LOCATION;VALUE=URI;X-ADDRESS=Nicolaasstraat 3\, Zaandam\
 , 1506 BB\, Nederland;X-APPLE-RADIUS=100;X-TITLE=Zaantheater:geo:0,0
END:VEVENT
BEGIN:VTIMEZONE
TZID:Europe/Amsterdam
X-LIC-LOCATION:Europe/Amsterdam
BEGIN:DAYLIGHT
DTSTART:20250330T030000
TZOFFSETFROM:+0100
TZOFFSETTO:+0200
TZNAME:CEST
END:DAYLIGHT
END:VTIMEZONE
END:VCALENDAR