BEGIN:VCALENDAR
VERSION:2.0
PRODID:-//wp-events-plugin.com//7.2.3.1//EN
TZID:Europe/Amsterdam
X-WR-TIMEZONE:Europe/Amsterdam
BEGIN:VEVENT
UID:35171@agenda-zaanstreek.nl
DTSTART;TZID=Europe/Amsterdam:20241206T203000
DTEND;TZID=Europe/Amsterdam:20241206T203000
DTSTAMP:20241010T095808Z
URL:https://agenda-zaanstreek.nl/events/the-selfish-dayfish-animal-space/
SUMMARY:The Selfish\, DayFish & Animal Space
DESCRIPTION:\n\n\nHet is weer tijd voor een Zaanse bandavond! Drie bands st
 aan te popelen om het podium te betreden met hun krachtige vocalen\, stevi
 ge gitaarriffs\, atmosferische synthlijnen en strakke ritmesecties met ons
 tuitbare energie!\n\n\n\n\n\nAnimal Space\nDeze driekoppige band combineer
 t funk\, punk\, rock en soul tot een authentiek eigen geluid met een boods
 chap van zelfexpressie. Met Rik’s dynamische beats\, Arne’s meeslepend
 e zang en gitaarvaardigheden en Fabians pulserende baslijnen raken hun opt
 redens diep. Beleef de ongefilterde echtheid van Animal Space. Ga met ons 
 mee op een reis die grenzen overstijgt en zelfexpressie omarmt\, waar wild
 e emoties samenkomen en je uitnodigen om de rauwe waarheid in jezelf te om
 armen.\n\n\n&nbsp\;\nThe Selfish\nDeze dynamische Zaanse rockband combinee
 rt de rauwe energie van traditionele rock met de levendige klanken van syn
 thesizers en analoge instrumenten.\n\nGeinspireerd door een breed scala aa
 n muzikale invloeden\, brengen ze het beste van rock en moderne elektronis
 che muziek samen. Hun muziek wordt gekenmerkt door krachtige vocalen\, ste
 vige gitaarriffs\, atmosferische synthlijnen en een strakke ritmesectie me
 t onstuitbare energie.\n\nThe Selfish bestaat uit Arjen Knaap (drums)\, Ta
 rah Ouwerkerk (vocals)\, Jan Jaap Doeven (gitaar/synth)\, Jeroen Knaap (ke
 yboard) en Ralph de Lange&nbsp\;(basgitaar).\n\n\n&nbsp\;\nDayFish\nJonge 
 vaders\, maar met de energie van een indoorspeeltuin na gratis snoep. Denk
  aan Dua Lipa\, maar dan sexy. Shakira\, maar dan met heupen die soms een 
 leugentje om bestwil tegen de kinderen zeggen.\nMet synths uit de werklapt
 op\, gitaren van toen we nog geen vaste lasten hadden\, en drums met de st
 rakheid van de maandelijkse hypotheek.\n\nIn mei hebben ze hun onze debuut
 single&nbsp\;I Like You The Way You Are!&nbsp\;opgenomen met producer Fran
 s Hendriks (Doe Maar\, Henny Vrienten\, Def P &amp\; Beatbusters\, Beef) i
 n de iconische studio Het Gemengd Bedrijf in Limmen\, waar het laatste alb
 um van Doe Maar – Versies / Limmen Tapes – is opgenomen.\nDayFish best
 aat uit Sebastiaan Roozendaal\, zang en gitaar\, Arjan Kuijper\, bas\, Thi
 js Polfliet\, toetsen\, gitaar en zang\, en Armando Marchena op drums.\n\n
CATEGORIES:Muziek
LOCATION:Podium De Flux\, Hemkade 48\, Zaandam\, 1506 PS\, Nederland
X-APPLE-STRUCTURED-LOCATION;VALUE=URI;X-ADDRESS=Hemkade 48\, Zaandam\, 1506
  PS\, Nederland;X-APPLE-RADIUS=100;X-TITLE=Podium De Flux:geo:0,0
END:VEVENT
BEGIN:VTIMEZONE
TZID:Europe/Amsterdam
X-LIC-LOCATION:Europe/Amsterdam
BEGIN:STANDARD
DTSTART:20241027T020000
TZOFFSETFROM:+0200
TZOFFSETTO:+0100
TZNAME:CET
END:STANDARD
END:VTIMEZONE
END:VCALENDAR