BEGIN:VCALENDAR
VERSION:2.0
PRODID:-//wp-events-plugin.com//7.2.3.1//EN
TZID:Europe/Amsterdam
X-WR-TIMEZONE:Europe/Amsterdam
BEGIN:VEVENT
UID:36093@agenda-zaanstreek.nl
DTSTART;TZID=Europe/Amsterdam:20250124T200000
DTEND;TZID=Europe/Amsterdam:20250124T200000
DTSTAMP:20241128T133640Z
URL:https://agenda-zaanstreek.nl/events/the-ruggeds-present-jams-gems-on-t
 our/
SUMMARY:The Ruggeds present Jams & Gems: On Tour
DESCRIPTION:&nbsp\;\n\n\nThe Ruggeds zijn terug! De breakdance-legends bouw
 en dit keer onze zaal om tot festival. Bereid je voor op een avond vol mee
 slepende muziek\, sensationele dans en mooie kunst.&nbsp\;\nAls echte verz
 amelaars reisden The Ruggeds over de hele wereld. Overal vonden ze de mooi
 ste parels.&nbsp\;Van block parties in New York tot Street Culture in Japa
 n.&nbsp\;Bij de beste jams verzamelden ze de meest schitterende moves\, ku
 nstwerken en tracks. Tijdens het Jams &amp\; Gems Festival zie je de gehel
 e collectie. Ervaar een avond vol verrassingen en ontdekkingen die al je z
 intuigen prikkelt.\n\nDeze voorstelling is onderdeel van Het Nationaal The
 aterweekend en kost daarom slechts 10\,- per ticket.\n\n\n\n\n\n\nOver The
  Ruggeds\nOveral kom je ze tegen. In videoclips met mega sterren\, op de g
 rootste podia ter wereld\, bij de Olympische Spelen\, in de clubs en in he
 t theater. The Ruggeds zijn meervoudig wereldkampioen Breaking\, wonnen th
 eaterprijzen en gingen viral met hun laatste voorstelling&nbsp\;GROOVE. Oo
 k met&nbsp\;Jams &amp\; Gems: On Tour&nbsp\;beloven ze theatermaken wedero
 m opnieuw uit te vinden.\n\n\n\n
CATEGORIES:Dans
LOCATION:Zaantheater\, Nicolaasstraat 3\, Zaandam\, 1506 BB\, Nederland
X-APPLE-STRUCTURED-LOCATION;VALUE=URI;X-ADDRESS=Nicolaasstraat 3\, Zaandam\
 , 1506 BB\, Nederland;X-APPLE-RADIUS=100;X-TITLE=Zaantheater:geo:0,0
END:VEVENT
BEGIN:VTIMEZONE
TZID:Europe/Amsterdam
X-LIC-LOCATION:Europe/Amsterdam
BEGIN:STANDARD
DTSTART:20241027T020000
TZOFFSETFROM:+0200
TZOFFSETTO:+0100
TZNAME:CET
END:STANDARD
END:VTIMEZONE
END:VCALENDAR