BEGIN:VCALENDAR
VERSION:2.0
PRODID:-//wp-events-plugin.com//7.2.3.1//EN
TZID:Europe/Amsterdam
X-WR-TIMEZONE:Europe/Amsterdam
BEGIN:VEVENT
UID:37215@agenda-zaanstreek.nl
DTSTART;TZID=Europe/Amsterdam:20251017T200000
DTEND;TZID=Europe/Amsterdam:20251017T200000
DTSTAMP:20250205T110315Z
URL:https://agenda-zaanstreek.nl/events/the-richie-experience/
SUMMARY:The Richie Experience
DESCRIPTION:\n\n\n\n\n\n\n\n\n\n\n\n\n\n\n\n\n\n\n\n\n\n\n\n\nBeleef de mag
 ie van Lionel Richie met The Richie Experience\, dé Nederlandse tribute b
 and die je direct in de sfeer van zijn grootste hits brengt. Van&nbsp\;‘
 All Night Long’&nbsp\;tot&nbsp\;‘Hello’&nbsp\;en de soulvolle klassi
 ekers uit zijn tijd bij de Commodores zoals&nbsp\;‘Easy’&nbsp\;en&nbsp
 \;‘Brick House’ – wij laten elk publiek meezingen\, en vooral… mee
 swingen!\n\nAan het front staat niemand minder dan de Zuid-Afrikaanse Marl
 on Roach\, die als 11-jarig jongetje al een megahit scoorde in zijn thuisl
 and en inmiddels met 30+ jaar ervaring als top performer weet hij precies 
 hoe hij een publiek moet raken. Marlon klinkt niet alleen als Lionel\, zij
 n charisma en looks maken de gelijkenis compleet.\n\nThe Richie Experience
  brengt niet alleen de muziek\, maar ook de sfeer\, de energie en de soul 
 van Lionel Richie naar je toe.\n\nVolgens Spike van de jury van Tribute Ba
 ttle of the Bands: ” Dit klinkt nog beter dan Lionel Richie zelf! ”\n\
 nDeuren open: 19.00 uur\nAanvang: 20.00 uur\n\nTickets € 27\,50 (+ € 2
 \,00 reserveringskosten)\nAan de deur € 29\,50\n\n\n\n\n\n\n\n\n\n\n\nKo
 op tickets\n\n\n\n\n\n\n\n\n\n\n\n&nbsp\;\n\n\n\n\n\n\n\n\n\n\n\n\n\n\n\n&
 nbsp\;\n\n\n\n\n\n
CATEGORIES:Muziek
LOCATION:Cultureel Centrum Bullekerk (Westzijderkerk)\, Westzijde 75\, Zaan
 dam\, 1506 ED\, Nederland
X-APPLE-STRUCTURED-LOCATION;VALUE=URI;X-ADDRESS=Westzijde 75\, Zaandam\, 15
 06 ED\, Nederland;X-APPLE-RADIUS=100;X-TITLE=Cultureel Centrum Bullekerk (
 Westzijderkerk):geo:0,0
END:VEVENT
BEGIN:VTIMEZONE
TZID:Europe/Amsterdam
X-LIC-LOCATION:Europe/Amsterdam
BEGIN:DAYLIGHT
DTSTART:20250330T030000
TZOFFSETFROM:+0100
TZOFFSETTO:+0200
TZNAME:CEST
END:DAYLIGHT
END:VTIMEZONE
END:VCALENDAR