BEGIN:VCALENDAR
VERSION:2.0
PRODID:-//wp-events-plugin.com//7.2.3.1//EN
TZID:Europe/Amsterdam
X-WR-TIMEZONE:Europe/Amsterdam
BEGIN:VEVENT
UID:40910@agenda-zaanstreek.nl
DTSTART;TZID=Europe/Amsterdam:20251220T203000
DTEND;TZID=Europe/Amsterdam:20251220T203000
DTSTAMP:20251218T103135Z
URL:https://agenda-zaanstreek.nl/events/the-metal-jam-resurrection-of-the-
 riff/
SUMMARY:The Metal Jam Resurrection of the Riff
DESCRIPTION:\n\n\n\n\n\n\n\n\n\n 	\n\nzaterdag\, dec 20\, 2025Open: 20:00Aa
 nvang: 20:30Prijs: GRATIS\n\n\n\n\nDe nieuwe editie van The Metal Jam is h
 ier! Harder\, Groter\, en nog gestoorder dan voorheen! Op zaterdag 20 Dece
 mber barsten de krachten van de ondergrond weer los in De Grote Weiver in 
 Wormerveer!\nGratis entree en geen inschrijving nodig!Kom langs met je ban
 d of instrument voor een avond vol keiharde muziek en directe verbinding m
 et de scene!\nGet in\,Plug in\,Play!\n\n\n\n\n\n
CATEGORIES:Muziek
LOCATION:De Groote Weiver\, Industrieweg 1a\, Wormerveer\, 1521 NA\, Wormer
 veer\, Nederland
X-APPLE-STRUCTURED-LOCATION;VALUE=URI;X-ADDRESS=Industrieweg 1a\, Wormervee
 r\, 1521 NA\, Wormerveer\, Nederland;X-APPLE-RADIUS=100;X-TITLE=De Groote 
 Weiver:geo:0,0
END:VEVENT
BEGIN:VTIMEZONE
TZID:Europe/Amsterdam
X-LIC-LOCATION:Europe/Amsterdam
BEGIN:STANDARD
DTSTART:20251026T020000
TZOFFSETFROM:+0200
TZOFFSETTO:+0100
TZNAME:CET
END:STANDARD
END:VTIMEZONE
END:VCALENDAR