BEGIN:VCALENDAR
VERSION:2.0
PRODID:-//wp-events-plugin.com//7.2.3.1//EN
TZID:Europe/Amsterdam
X-WR-TIMEZONE:Europe/Amsterdam
BEGIN:VEVENT
UID:39148@agenda-zaanstreek.nl
DTSTART;TZID=Europe/Amsterdam:20250621T203000
DTEND;TZID=Europe/Amsterdam:20250621T203000
DTSTAMP:20250612T100754Z
URL:https://agenda-zaanstreek.nl/events/the-metal-jam-high-speed-steel/
SUMMARY:The Metal Jam – High Speed Steel!
DESCRIPTION:\n\n\n\n\n\n\n\n\n\n 	\n\nzaterdag\, jun 21\, 2025Open: 20:30Aa
 nvang: 20:30Prijs: Gratis\n\n\n\n\n&nbsp\;\nMetaalvermoeidheid doen we nie
 t aan. Onuitputbaar knallen we door met The Metal Jam – High Speed Steel
 !\nOp 21 Juni Stellen we het podium weer tot beschikking voor Metalheads e
 n Metalbands om te laten zien wat ze in huis hebben!\nZoals altijd hantere
 n we een gratis entree beleid\, omdat we vinden dat iedereen muziek moet k
 unnen maken!\nWe zien jullie allemaal graag weer op het podium en in de pi
 t bij The Metal Jam – High Speed Steel!\nTot dan!\n\n\n\n\n\n
CATEGORIES:Muziek
LOCATION:De Groote Weiver\, Industrieweg 1a\, Wormerveer\, 1521 NA\, Wormer
 veer\, Nederland
X-APPLE-STRUCTURED-LOCATION;VALUE=URI;X-ADDRESS=Industrieweg 1a\, Wormervee
 r\, 1521 NA\, Wormerveer\, Nederland;X-APPLE-RADIUS=100;X-TITLE=De Groote 
 Weiver:geo:0,0
END:VEVENT
BEGIN:VTIMEZONE
TZID:Europe/Amsterdam
X-LIC-LOCATION:Europe/Amsterdam
BEGIN:DAYLIGHT
DTSTART:20250330T030000
TZOFFSETFROM:+0100
TZOFFSETTO:+0200
TZNAME:CEST
END:DAYLIGHT
END:VTIMEZONE
END:VCALENDAR