BEGIN:VCALENDAR
VERSION:2.0
PRODID:-//wp-events-plugin.com//7.2.3.1//EN
TZID:Europe/Amsterdam
X-WR-TIMEZONE:Europe/Amsterdam
BEGIN:VEVENT
UID:40882@agenda-zaanstreek.nl
DTSTART;TZID=Europe/Amsterdam:20251220T203000
DTEND;TZID=Europe/Amsterdam:20251220T203000
DTSTAMP:20251211T113027Z
URL:https://agenda-zaanstreek.nl/events/the-kate-bush-story-suzanne-sander
 s-kate/
SUMMARY:The Kate Bush Story - Suzanne Sanders' Kate!
DESCRIPTION:\n\n\n\n\n\nza 20 dec 202520.30\nKleine Zaal\n€29\,50\n\nBest
 el\n\n\n\n\n\n&nbsp\;\n\n&nbsp\;\n\n\n\n\n\n\nIn het programma The Tribute
 \, Battle Of The Bands maakte het grote publiek kennis met Kate!\, de Nede
 rlandse Kate Bush Tribute Band. Nu laat Kate! het grote publiek kennismake
 n met het enigma Kate Bush.\n\n\n\n\n\n\nWie schuilt er achter het introve
 rte meisje Catherine ‘Kate’ Bush? Achter een piano schreef ze ooit haa
 r eerste nummer. Eind jaren 70 brak ze door met het debuutalbum ‘The Kic
 k Inside’. Kate Bush werd wereldberoemd\, geroemd om haar hoge loepzuive
 re stem en bijzondere authentieke theatrale persoonlijkheid\, maar ze schu
 wde de pers en werd een enigma voor haar bewonderaars.\n\n(Her)beleef de m
 uziek van Kate Bush.\nDeze sprankelende en intieme theatershow vertelt het
  levensverhaal van Kate. Natuurlijk ontbreken de evergreens zoals ‘Wuthe
 ring Heights’ en ‘Running Up That Hill’ niet. Daarnaast komen er ook
  minder bekende pareltjes aan bod.\n\nZangeres Suzanne Sanders vertolkt de
  muziek van Kate Bush en zet deze bijzondere muziek samen met haar fantast
 ische live band terug in de spotlight. Zij nemen je mee op een muzikale re
 is\, terug naar de jaren 70. Ergens in Engeland zit een meisje achter een 
 piano\, onbewust wat er komen gaat.\n\n\n\n\n\n\n
CATEGORIES:Muziek
LOCATION:Zaantheater\, Nicolaasstraat 3\, Zaandam\, 1506 BB\, Nederland
X-APPLE-STRUCTURED-LOCATION;VALUE=URI;X-ADDRESS=Nicolaasstraat 3\, Zaandam\
 , 1506 BB\, Nederland;X-APPLE-RADIUS=100;X-TITLE=Zaantheater:geo:0,0
END:VEVENT
BEGIN:VTIMEZONE
TZID:Europe/Amsterdam
X-LIC-LOCATION:Europe/Amsterdam
BEGIN:STANDARD
DTSTART:20251026T020000
TZOFFSETFROM:+0200
TZOFFSETTO:+0100
TZNAME:CET
END:STANDARD
END:VTIMEZONE
END:VCALENDAR