BEGIN:VCALENDAR
VERSION:2.0
PRODID:-//wp-events-plugin.com//7.2.3.1//EN
TZID:Europe/Amsterdam
X-WR-TIMEZONE:Europe/Amsterdam
BEGIN:VEVENT
UID:36764@agenda-zaanstreek.nl
DTSTART;TZID=Europe/Amsterdam:20250628T200000
DTEND;TZID=Europe/Amsterdam:20250628T200000
DTSTAMP:20250111T155150Z
URL:https://agenda-zaanstreek.nl/events/the-diamond-baritones-any-way-the-
 wind-blows/
SUMMARY:The Diamond Baritones – Any Way The Wind Blows
DESCRIPTION:\n\n\n\n\n\n\n\n\n\n\n\n\n\n\n\n\n\n\n\n\n\n\n\n\nDe tv-sensati
 e van het najaar van 2024 komt naar de Bullekerk! The Diamond Baritones zi
 jn drie virtuoze zangers die elkaar ontmoetten tijdens de Vrijthofconcerte
 n van André Rieu. Na hun avontuur bij Holland’s Got Talent zijn ze klaa
 r om iedereen te betoveren in de theater- en concertzalen. Op zaterdag 28 
 juni komen ze naar de Bullekerk.\n\nThe Diamond Baritones bestaat uit Haar
 lemmer Jop van Gennip en Amerikanen Galen Dole en Kyle Bejnerowicz. In hun
  sprankelende theaterprogramma nemen ze je mee op een onvergetelijke reis 
 door verschillende muziekstijlen\, van Bach tot The Beatles en van Mozart 
 tot Disney. Op onnavolgbare wijze weten The Diamond Baritones songs met el
 kaar te verbinden en tot één magisch geheel te maken. Alles wordt uitgev
 oerd met een verfrissende en theatrale flair die je niet mag missen!\n\nLa
 at je verrassen\, ontroeren en meeslepen en beleef een avond vol muzikale 
 magie met The Diamond Baritones!\n\nDit is een zitconcert.\n\nAanvang: 20.
 00 uur\nDeuren open: 19.00 uur\n\nTickets: € 27\,50 (+ € 2\,00 reserve
 ringskosten)\nAan de deur: € 29\,50\n\n\n\n\n\n\n\n\n\n\n\nKoop tickets\
 n\n\n\n\n\n\n\n\n\n\n\n\n&nbsp\;\n\n\n\n\n\n\n\n\n\n\n\n\n\n
CATEGORIES:Muziek
LOCATION:Cultureel Centrum Bullekerk (Westzijderkerk)\, Westzijde 75\, Zaan
 dam\, 1506 ED\, Nederland
X-APPLE-STRUCTURED-LOCATION;VALUE=URI;X-ADDRESS=Westzijde 75\, Zaandam\, 15
 06 ED\, Nederland;X-APPLE-RADIUS=100;X-TITLE=Cultureel Centrum Bullekerk (
 Westzijderkerk):geo:0,0
END:VEVENT
BEGIN:VTIMEZONE
TZID:Europe/Amsterdam
X-LIC-LOCATION:Europe/Amsterdam
BEGIN:DAYLIGHT
DTSTART:20250330T030000
TZOFFSETFROM:+0100
TZOFFSETTO:+0200
TZNAME:CEST
END:DAYLIGHT
END:VTIMEZONE
END:VCALENDAR