BEGIN:VCALENDAR
VERSION:2.0
PRODID:-//wp-events-plugin.com//7.2.3.1//EN
TZID:Europe/Amsterdam
X-WR-TIMEZONE:Europe/Amsterdam
BEGIN:VEVENT
UID:35935@agenda-zaanstreek.nl
DTSTART;TZID=Europe/Amsterdam:20241214T201500
DTEND;TZID=Europe/Amsterdam:20241214T201500
DTSTAMP:20241121T112820Z
URL:https://agenda-zaanstreek.nl/events/the-bayou-mosquitos/
SUMMARY:The Bayou Mosquitos
DESCRIPTION:\n\n14 december om 20:15\n\n\n\n\nAmericana in de Wormerveerse 
 Vermaning\, Zaanweg 57\, Wormerveer\n\n\nDe Amsterdamse band speelt een he
 erlijke muziek mix uit het zuiden van de VS met belangrijke akoestische ro
 llen voor de accordeon\, mandoline\, bas en slide gitaar.\nSongs van helde
 n Jim Reeves\, Doug Sahm\, Allen Toussaint\, Ry Cooder\, Flaco Jimenez\, T
 he Band\, Bonnie Raitt en eigen songs.\nAl jaar en dag brouwen de Muggen u
 it de Delta met veel plezier hun eigen ‘southern style gumbo’.\nDe gro
 ep maakte in 2021 het album “COMPADRES”.\nHierop een 16-tal in Louis' 
 home-studio opgenomen tracks waarop bijzondere gasten: Tineke Schoemaker\,
  Jeroen Kramer\, Helen Botman\, Peter van Vleuten\, Jerney Kate\, Beatrice
  &amp\; Vera vd Poel en Jan Donkers.\nDe band werd opgericht in 1990\, dus
  het 35 jarig jubileum is aanstaande!\n\nAbel de Lange: zang\, slide-gitaa
 r\nMarius Bos: accordeon\, piano\, orgel\, zang\nAd van Beusekom: bas en z
 ang\nLouis ter Burg: mandoline\, dulcimer\, shuitar\n\nZaal open: 19.45\n
CATEGORIES:Muziek
LOCATION:Wormerveerse Vermaning\, Zaanweg 57\, Wormerveer\, 1521 DM\, Neder
 land
X-APPLE-STRUCTURED-LOCATION;VALUE=URI;X-ADDRESS=Zaanweg 57\, Wormerveer\, 1
 521 DM\, Nederland;X-APPLE-RADIUS=100;X-TITLE=Wormerveerse Vermaning:geo:0
 ,0
END:VEVENT
BEGIN:VTIMEZONE
TZID:Europe/Amsterdam
X-LIC-LOCATION:Europe/Amsterdam
BEGIN:STANDARD
DTSTART:20241027T020000
TZOFFSETFROM:+0200
TZOFFSETTO:+0100
TZNAME:CET
END:STANDARD
END:VTIMEZONE
END:VCALENDAR