BEGIN:VCALENDAR
VERSION:2.0
PRODID:-//wp-events-plugin.com//7.2.3.1//EN
TZID:Europe/Amsterdam
X-WR-TIMEZONE:Europe/Amsterdam
BEGIN:VEVENT
UID:40894@agenda-zaanstreek.nl
DTSTART;TZID=Europe/Amsterdam:20260131T200000
DTEND;TZID=Europe/Amsterdam:20260131T200000
DTSTAMP:20251215T112012Z
URL:https://agenda-zaanstreek.nl/events/the-aretha-franklin-experience/
SUMMARY:The Aretha Franklin Experience
DESCRIPTION:\n\n\n\n\n\n\n\n\n\n\n\n\n\n\n\n\n\n\n\n\n\n\n\n\nThe Aretha Fr
 anklin Experience is de enige tributeband in Nederland die zich volledig r
 icht op de muziek van Aretha Franklin: the still one and only Queen of Sou
 l.\n\nAretha Franklin stond zes decennia lang aan de top. Haar grootste hi
 t was&nbsp\;Respect\, een cover van een nummer van Otis Redding. Het werd 
 het lijflied voor zowel de Afro-Amerikaanse burgerrechtenbeweging als de t
 weede feministische golf. Aretha Franklin zong op de begrafenis van domine
 e Martin Luther King en bij de inauguraties van de presidenten Carter\, Cl
 inton en Obama. Daarnaast was ze een bron van inspiratie voor zangeressen 
 als Whitney Houston\, Alicia Keys en Annie Lennox. Aretha overleed 16 augu
 stus 2018\, op 76-jarige leeftijd.\n\nThe Aretha Franklin Experience garan
 deert je een avond vol soul\, gospel en blues à la Aretha Franklin. Alle 
 bandleden zijn professionals en hebben minstens 20 jaar ervaring in het ma
 ken van muziek. Zij brengen een complete en dynamische show die de spirit\
 , sfeer en soul van Aretha’s legacy vol overgave overbrengt op het publi
 ek. De liefde en bewondering voor Aretha Franklin en haar muziek maken dat
  de band er bij ieder optreden volledig voor gaat. De tributeshow transpor
 teert je regelrecht van Nederland naar Memphis\, Tennessee in de jaren ’
 60 en ’70.\n\nGeniet van een zwoel programma met sublieme ballads en swi
 ngende soul die weerklinkt in elke vezel van je lichaam.\n\nMet voor aanva
 ng\, in de pauze en na afloop muziek van video dj Caspar van de Clip Club.
 \n\nDit is een sta-concert.\n\nDeuren open: 19:00 uur\nAanvang: 20:00 uur\
 n\nTickets: € 22\,50 (+ € 2 reserveringskosten)\nAan de deur: € 24\,
 50\n\n\n\n\n\n\n\n\n\n\n\nKoop tickets\n\n\n\n\n\n\n\n\n\n\n\n\n\n\n\n\n\n
 \n\n\n\n\n\n\n\n\n
CATEGORIES:Muziek
LOCATION:Cultureel Centrum Bullekerk (Westzijderkerk)\, Westzijde 75\, Zaan
 dam\, 1506 ED\, Nederland
X-APPLE-STRUCTURED-LOCATION;VALUE=URI;X-ADDRESS=Westzijde 75\, Zaandam\, 15
 06 ED\, Nederland;X-APPLE-RADIUS=100;X-TITLE=Cultureel Centrum Bullekerk (
 Westzijderkerk):geo:0,0
END:VEVENT
BEGIN:VTIMEZONE
TZID:Europe/Amsterdam
X-LIC-LOCATION:Europe/Amsterdam
BEGIN:STANDARD
DTSTART:20251026T020000
TZOFFSETFROM:+0200
TZOFFSETTO:+0100
TZNAME:CET
END:STANDARD
END:VTIMEZONE
END:VCALENDAR