BEGIN:VCALENDAR
VERSION:2.0
PRODID:-//wp-events-plugin.com//7.2.3.1//EN
TZID:Europe/Amsterdam
X-WR-TIMEZONE:Europe/Amsterdam
BEGIN:VEVENT
UID:39794@agenda-zaanstreek.nl
DTSTART;TZID=Europe/Amsterdam:20260506T203000
DTEND;TZID=Europe/Amsterdam:20260506T203000
DTSTAMP:20250730T100459Z
URL:https://agenda-zaanstreek.nl/events/teun-van-den-elzen-op-positie/
SUMMARY:Teun van den Elzen - Op positie
DESCRIPTION:\n\n\nTeun van den Elzen\, een spannende nieuwe naam in het Ned
 erlands cabaret\, spaart niets of niemand wanneer hij zijn blik op de were
 ld deelt. Zeker zichzelf niet. De tijd om onbekommerd naar onze navel te s
 taren is volgens politicoloog Teun echt voorbij. Onze vrije samenleving wo
 rdt van alle kanten bedreigd. Liever dan verdedigen\, kiest Teun voor de a
 anval. Met vlijmscherpe\, nietsontziende grappen als wapen.\n\n\n\n\n\n\nT
 eun van den Elzen - Op positie\nBen je bereid te vechten voor wat je belan
 grijk vindt? Onze vrije samenleving wordt van alle kanten bedreigd. Er is 
 nogal wat te verdedigen en daarom kiest Teun van den Elzen in zijn tweede 
 cabaretprogramma vol voor de aanval. Met als enige wapen: zijn vlijmscherp
 e\, nietsontziende grappen.\n\nTeun van den Elzen is cabaretier\, columnis
 t bij Spijkers met Koppen\, comedian bij Club Haug en schreef jarenlang vo
 or Dit Was Het Nieuws. Hij speelde op Lowlands\, Pinkpop en Zwarte Cross.\
 n\n“Geweldig performerschap\, iedere punchline is perfect getimed\, en h
 et aantal goede grappen ligt hoog.” — Theaterkrant.\n\n\nLees meer\n\n
 \n\n\nPrijzen\n\n\n\n\n\nExtra informatie:\n\n\n\n\n\nwo6 mei 202620.30Kle
 ine ZaalBestel\n\n
CATEGORIES:Cabaret
LOCATION:Zaantheater\, Nicolaasstraat 3\, Zaandam\, 1506 BB\, Nederland
X-APPLE-STRUCTURED-LOCATION;VALUE=URI;X-ADDRESS=Nicolaasstraat 3\, Zaandam\
 , 1506 BB\, Nederland;X-APPLE-RADIUS=100;X-TITLE=Zaantheater:geo:0,0
END:VEVENT
BEGIN:VTIMEZONE
TZID:Europe/Amsterdam
X-LIC-LOCATION:Europe/Amsterdam
BEGIN:DAYLIGHT
DTSTART:20260329T030000
TZOFFSETFROM:+0100
TZOFFSETTO:+0200
TZNAME:CEST
END:DAYLIGHT
END:VTIMEZONE
END:VCALENDAR