BEGIN:VCALENDAR
VERSION:2.0
PRODID:-//wp-events-plugin.com//7.2.3.1//EN
TZID:Europe/Amsterdam
X-WR-TIMEZONE:Europe/Amsterdam
BEGIN:VEVENT
UID:40246@agenda-zaanstreek.nl
DTSTART;TZID=Europe/Amsterdam:20251003T130000
DTEND;TZID=Europe/Amsterdam:20260329T160000
DTSTAMP:20250923T093959Z
URL:https://agenda-zaanstreek.nl/events/tentoonstelling-gerrit-de-jong-190
 5-1978-kunstenaar-in-afzondering/
SUMMARY:Tentoonstelling Gerrit de Jong (1905-1978)\, kunstenaar in afzonde
 ring
DESCRIPTION:\n\nEen kunstenaar die in afzondering werkte\, maar een indrukw
 ekkend oeuvre naliet:&nbsp\;van 3 oktober 2025 tot en met 29 maart 2026&nb
 sp\;is in het Honig Breethuis in Zaandijk de tentoonstelling&nbsp\;Gerrit 
 de Jong (1905-1978)\, kunstenaar in afzondering&nbsp\;te zien. Deze exposi
 tie biedt een bijzondere kans om het werk van de Zaanse graficus en kunste
 naar Gerrit de Jong te ontdekken.\n\nDe tentoonstelling omvat&nbsp\;dertig
 &nbsp\;werken van De Jong uit de collecties van&nbsp\;het Gemeentearchief 
 Zaanstad\, het Zaans&nbsp\;Museum en Kunstgalerie Staphorsius in Westzaan.
  De nadruk ligt op de etsen die hij gemaakt heeft in de periode 1935-1974.
  Daarnaast is een viertal schilderijen van hem te zien.\n\nDe expositie va
 n werk van Gerrit de Jong biedt de bezoekers van het Honig Breethuis een i
 nspirerende wisselwerking tussen de behangselschilderingen van Willem Uppi
 nk en de bosgezichten van De Jong\, die beiden schatplichtig zijn aan oude
  meesters. De Jongs Zaanse polderlandschappen staan in relatie tot de dire
 cte omgeving van het Honig Breethuis met de tegenoverliggende Kalverpolder
 . Zijn indringende stillevens en portretten sluiten goed aan bij de intimi
 teit van het woonhuismuseum.\n\nLevensloop Gerrit de Jong\n\nDe Zaanse gra
 ficus en kunstschilder Gerrit de Jong leefde van 1905 tot 1978. In 1924 ve
 rliet hij het ouderlijk huis en ging bij zijn grootmoeder in Zaandijk wone
 n. Hier vond hij werk bij de cacaofabriek Teun Oly &amp\; Co.\n\n‘Het vo
 ornaamste is hoe je het in je eentje doet. Het kunstenaarschap is geen ber
 oep\, het is afzondering. Ik ben geen kluizenaar\, ik houd van mensen.’ 
 Zo luidt een uitspraak van Gerrit de Jong\, waarin hij zijn kunstenaarscha
 p samenvat.&nbsp\;\n\nHoewel hij door een ongeluk het licht in zijn linker
 oog moest missen\, manifesteert hij zich vanaf 1934 nadrukkelijk als beeld
 end kunstenaar en leert hij zichzelf de etstechniek\, waarin hij met name 
 stillevens vervaardigde. In de jaren vijftig legt hij zich vooral toe op h
 et schilderen van stillevens in olieverf. In de jaren zestig vervaardigt h
 ij vooral etsen van landschappen\, zoals het Zaanse polderlandschap.&nbsp\
 ;\n\nDaarnaast kopieert hij voor de Amsterdamse kunsthandel landschappen v
 an Hollandse meesters uit de zeventiende eeuw. De vaardigheid die hij daar
 bij ontwikkelt valt te herkennen in zijn eigen studies van romantische bos
 gezichten\, die teruggaan op de composities van Jacob van Ruysdael.\n\nOok
  gaf hij les aan leerlingen zoals Leo Poelmeijer (1934-2018). In de jaren 
 zeventig verandert zijn stijl en legt hij zich met name toe op panoramisch
 e landschappen. Zijn lichamelijke conditie laat dan niet meer toe dat hij 
 nog etsen maakt.\n\nIn 1971 organiseerde Het Weefhuis in Zaandijk een jubi
 leumtentoonstelling\, waarbij de publicatie Gerrit de Jong\, schilder\, te
 kenaar\, graficus van J.B. de Winter verscheen. In 2005 organiseerde het M
 olenmuseum postuum een overzichtstentoonstelling. Hierbij kwam de catalogu
 s Gerrit de Jong\, meesterlijk graficus en schilder door Miranda van Gelde
 ren e.a. uit\, die ook bij de huidige expositie verkrijgbaar is.\n\nBezoek
 ers zijn van harte welkom tijdens de openingstijden van het Honig Breethui
 s: vrijdag t/m zondag van 13.00 tot 16.00 uur. Op afspraak kan\, buiten de
  vaste openingstijden\, groepsbezoek plaatsvinden. Meer informatie is te v
 inden op honigbreethuis.nl\n\nAfbeelding:&nbsp\;Gerrit de Jong\,&nbsp\;Sti
 lleven met blauwe fles\, 1953. Olieverf op doek\, 38 x 33 cm (Collectie Za
 ans Museum)
CATEGORIES:Expositie
LOCATION:Honig Breethuis\, Lagedijk 80\, Zaandijk\, 1544 BJ\, Nederland
X-APPLE-STRUCTURED-LOCATION;VALUE=URI;X-ADDRESS=Lagedijk 80\, Zaandijk\, 15
 44 BJ\, Nederland;X-APPLE-RADIUS=100;X-TITLE=Honig Breethuis:geo:0,0
END:VEVENT
BEGIN:VTIMEZONE
TZID:Europe/Amsterdam
X-LIC-LOCATION:Europe/Amsterdam
BEGIN:DAYLIGHT
DTSTART:20250330T030000
TZOFFSETFROM:+0100
TZOFFSETTO:+0200
TZNAME:CEST
END:DAYLIGHT
BEGIN:STANDARD
DTSTART:20251026T020000
TZOFFSETFROM:+0200
TZOFFSETTO:+0100
TZNAME:CET
END:STANDARD
BEGIN:DAYLIGHT
DTSTART:20260329T030000
TZOFFSETFROM:+0100
TZOFFSETTO:+0200
TZNAME:CEST
END:DAYLIGHT
END:VTIMEZONE
END:VCALENDAR